BEGIN:VCALENDAR
VERSION:2.0
PRODID:-//ChamberMaster//Event Calendar 2.0//EN
METHOD:PUBLISH
X-PUBLISHED-TTL:P3D
REFRESH-INTERVAL:P3D
CALSCALE:GREGORIAN
BEGIN:VEVENT
DTSTART:20150418T230000Z
DTEND:20150419T040000Z
X-MICROSOFT-CDO-ALLDAYEVENT:FALSE
SUMMARY:Hamilton Elementary Patriots' Ball
DESCRIPTION:The annual Patriots Ball is Hamilton Elementary's biggest fundraiser. This festive event features silent and live auctions\, fabulous food and drinks\, and live music. Proceeds will benefit our new playground.\n\n\n\nThe Hamilton Elementary Patriots' Ball online auction is now live\, and anyone can bid! This is a great way to support a local neighborhood school. There are loads of great items to bid on now\, and more items are still coming in\, so be sure to check back often to see what's new! (Online bidding closes April 25 at 9 p.m.)\n\n\n\nhttps://www.biddingforgood.com/hamilton
X-ALT-DESC;FMTTYPE=text/html:<span style="font-size:12px\;"><span style="font-family:arial\;">The annual Patriots Ball is Hamilton Elementary&#39\;s biggest fundraiser. This festive event features silent and live auctions\, fabulous food and drinks\, and live music. Proceeds will benefit our new playground.<br />\n<br />\n<span style="color: rgb(113\, 113\, 113)\; line-height: 18.75px\;">The Hamilton Elementary Patriots&rsquo\; Ball online auction is now live\, and anyone can bid! This is a great way to support a local neighborhood school. There are loads of great items to bid on now\, and more items are still coming in\, so be sure to check back often to see what&rsquo\;s new! (Online bidding closes&nbsp\;</span><span class="aBn" data-term="goog_935885102" style="color: rgb(113\, 113\, 113)\; line-height: 18.75px\; border-bottom-width: 1px\; border-bottom-style: dashed\; border-bottom-color: rgb(204\, 204\, 204)\; position: relative\; top: -2px\; z-index: 0\;" tabindex="0"><span class="aQJ" style="position: relative\; top: 2px\; z-index: -1\;">April 25 at 9 p.m.</span></span></span></span><span style="color: rgb(113\, 113\, 113)\; font-family: 'Helvetica Neue'\, Arial\, Helvetica\, sans-serif\; font-size: 15px\; line-height: 18.75px\;"><span style="font-size:12px\;"><span style="font-family:arial\;">)</span></span></span><br />\n<br />\n<a href="https://www.biddingforgood.com/hamilton" style="color: rgb(17\, 85\, 204)\; font-family: arial\, sans-serif\; font-size: 12.8000001907349px\; line-height: normal\;" target="_blank">https://www.biddingforgood.<wbr />com/hamilton</a><br style="color: rgb(34\, 34\, 34)\; font-family: arial\, sans-serif\; font-size: 12.8000001907349px\; line-height: normal\;" />\n<br style="color: rgb(34\, 34\, 34)\; font-family: arial\, sans-serif\; font-size: 12.8000001907349px\; line-height: normal\;" />\n&nbsp\;
LOCATION:4025 N. Ravenswood
UID:e.1819.1508
SEQUENCE:3
DTSTAMP:20260423T112808Z
URL:https://members.lakeviewroscoevillage.org/events/details/hamilton-elementary-patriots-ball-04-18-2015-1508
END:VEVENT

END:VCALENDAR
