BEGIN:VCALENDAR
VERSION:2.0
PRODID:-//ChamberMaster//Event Calendar 2.0//EN
METHOD:PUBLISH
X-PUBLISHED-TTL:P3D
REFRESH-INTERVAL:P3D
CALSCALE:GREGORIAN
BEGIN:VEVENT
DTSTART:20170721T150000Z
DTEND:20170723T230000Z
X-MICROSOFT-CDO-ALLDAYEVENT:FALSE
SUMMARY:Hanna Andersson Grand Opening
DESCRIPTION:Come celebrate with us as we open a brand new Hanna Andersson store on Southport Ave. with prizes\, treats and celebratory offers!\n\n\n\nGrand Opening Weekend in-store deals Friday-Sunday\, July 21-23: \n\n  Buy one\, get one FREE on all baby and kids sleepwear \n\n  30% off the rest of your purchase\n\n\n\nPlus be one of the first customers Friday Sunday and receive a free gift: \n\n  Friday: FREE pair of long johns to the first 500 customers! \n\n  Saturday & Sunday: FREE $20 Hanna gift card to the first 100 customers each day!\n\n\n\nJoin us Friday and Saturday\, 10AM 8PM\, and Sunday\, 10AM 6PM.\n\n\n\nSee you there\, Chicago!\n\n\n\nRSVP on Facebook\n\n\n\nLove\,\n\n@happyhannas
X-ALT-DESC;FMTTYPE=text/html:<span style="color:rgb(75\, 79\, 86)\; font-family:helvetica\,arial\,sans-serif\; font-size:14px">Come celebrate with us as we open a brand new Hanna Andersson store on Southport Ave. with prizes\, treats and celebratory offers!</span><br />\n<br />\n<span style="color:rgb(75\, 79\, 86)\; font-family:helvetica\,arial\,sans-serif\; font-size:14px">Grand Opening Weekend in-store deals Friday-Sunday\, July 21-23:&nbsp\;</span><br />\n<span style="color:rgb(75\, 79\, 86)\; font-family:helvetica\,arial\,sans-serif\; font-size:14px">&bull\; Buy one\, get one FREE on all baby and kids sleepwear&nbsp\;</span><br />\n<span style="color:rgb(75\, 79\, 86)\; font-family:helvetica\,arial\,sans-serif\; font-size:14px">&bull\; 30% off the rest of your purchase</span><br />\n<br />\n<span style="color:rgb(75\, 79\, 86)\; font-family:helvetica\,arial\,sans-serif\; font-size:14px">Plus be one of the first customers Friday&ndash\;Sunday and receive a free gift:&nbsp\;</span><br />\n<span style="color:rgb(75\, 79\, 86)\; font-family:helvetica\,arial\,sans-serif\; font-size:14px">&bull\; Friday: FREE pair of long johns to the first 500 customers!&nbsp\;</span><br />\n<span style="color:rgb(75\, 79\, 86)\; font-family:helvetica\,arial\,sans-serif\; font-size:14px">&bull\; Saturday &amp\; Sunday: FREE $20 Hanna gift card to the first 100 customers each day!</span><br />\n<br />\n<span style="color:rgb(75\, 79\, 86)\; font-family:helvetica\,arial\,sans-serif\; font-size:14px">Join us Friday and Saturday\, 10AM&ndash\;8PM\, and Sunday\, 10AM&ndash\;6PM.<br />\n<br />\nSee you there\, Chicago!<br />\n<br />\n<a href="https://www.facebook.com/events/1875496122700135">RSVP on Facebook</a><br />\n<br />\nLove\,<br />\n@happyhannas</span>
LOCATION:Hanna Andersson - 3452 N. Southport Ave\, Chicago\, IL 60657
UID:e.1819.5184
SEQUENCE:3
DTSTAMP:20260419T123537Z
URL:https://members.lakeviewroscoevillage.org/events/details/hanna-andersson-grand-opening-07-21-2017-5184
END:VEVENT

END:VCALENDAR
