BEGIN:VCALENDAR
VERSION:2.0
PRODID:-//ChamberMaster//Event Calendar 2.0//EN
METHOD:PUBLISH
X-PUBLISHED-TTL:P3D
REFRESH-INTERVAL:P3D
CALSCALE:GREGORIAN
BEGIN:VEVENT
DTSTART:20140623T223000Z
DTEND:20140624T003000Z
X-MICROSOFT-CDO-ALLDAYEVENT:FALSE
SUMMARY:Happy Hour + Networking at The Pony
DESCRIPTION:The Lakeview Chamber of Commerce is happy to announce a networking and happy hour event. \n\n\n\nJoin us June 23rd from 5:30pm-7:30pm for complimentary appetizers and drinks at the newly renovated 2nd floor of The Pony\, featuring an amazing retractable skylight!\n\n\n\nYou'll make great business connections while enjoying the open air\, refreshing drinks and delicious bites. Click to RSVP. \n\n\n\n\n\nAbout The Pony:\n\nThe Pony rode into Lakeview the summer of 2008 on a mission to serve up great food\, cold beer and to offer our neighborhood a "local place". It's a formula that's been turning guests into regulars since we've opened our doors.\n\n \n\nWith personalized flat screen TV's at each table in our main bar\, there literally isn't a bad seat in the house. Seasons greet us with no challenge as our second floor's Pony Up Lounge is fit with a show stopping retractable roof\, creating a sunny oasis in the summer and a cozy lounge throughout the colder months for you and your friends to enjoy. \n\n \n\nWeekends at The Pony offer you an unbeatable party with mixes from Chicago's best DJ's setting the sounds for your best night\, so you can dance the night away. Pioneer Tavern Group's Executive Chef Brian Jupiter has curated an excellent menu of classic fare\, turning things up a notch here at The Pony\, making the hard to resist comfort foods we love\, even tastier. How do we manage that? Simple\, in our kitchens we make your orders from scratch\, utilizing as much local produce\, protein\, and product as we can\, meaning the food you get is fresher from the get go. Our sauces are homemade\, our beef is grass fed\, and we love when you get to share an experience with us like our very own 16" Grilled Cheese (The Clydesdale).\n\n \n\nLibations are handled with care too. Our seasonal and craft cocktails\, and our Pony punches\, are constantly being inspired by the seasons\, the holidays\, and are always mixed up to refresh and to impress. Our list of the best local\, classic\, and micro-brewed beers are made all the more perfect with our signature frosty mugs. So\, no need to be shy around us- Grab your friends and get ready to saddle up at The Pony! http://theponychicago.com
X-ALT-DESC;FMTTYPE=text/html:<span style="font-size:14px\;"><span style="font-family:arial\;"><span style="background-color:#FFFFFF\;">The Lakeview Chamber&nbsp\;of Commerce is happy to announce a networking and happy hour event.&nbsp\;</span><br />\n<br />\n<span style="background-color:#FFFFFF\;">Join us June </span><span style="background-color:#FFFFFF\;">23rd</span><span style="background-color:#FFFFFF\;"> from 5:</span><span style="background-color:#FFFFFF\;">30pm-7</span><span style="background-color:#FFFFFF\;">:</span><span style="background-color:#FFFFFF\;">30pm</span><span style="background-color:#FFFFFF\;"> for complimentary appetizers and drinks at the newly renovated </span><span style="background-color:#FFFFFF\;">2nd</span><span style="background-color:#FFFFFF\;"> floor of The Pony\, featuring an amazing retractable skylight!</span><br />\n<br />\n<span style="background-color:#FFFFFF\;">You&#39\;ll make great business connections while enjoying the open air\, refreshing drinks and delicious bites. <a href="http://www.eventbrite.com/e/happy-hour-networking-at-the-pony-inn-tickets-11577270929">Click to RSVP</a>.&nbsp\;</span></span></span><br />\n<br />\n<br />\n<span style="border:1pt none windowtext\;padding:0in\;background-position:initial initial\;background-repeat:initial initial\;"><span style="font-family:arial\,sans-serif\;"><span style="font-size:11pt\;">About The Pony:</span></span></span><br />\n<span style="font-size:11px\;"><em><span style="border:1pt none windowtext\;padding:0in\;background-position:initial initial\;background-repeat:initial initial\;"><span style="color:black\;"><span style="font-family:arial\,sans-serif\;">The Pony rode into Lakeview the summer of 2008 on a mission to serve up great food\, cold beer and to offer our neighborhood a &ldquo\;local place&rdquo\;. It&rsquo\;s a formula that&rsquo\;s been turning guests into regulars since we&rsquo\;ve opened our doors.</span></span></span></em><br />\n&nbsp\;<br />\n<em><span style="border:1pt none windowtext\;padding:0in\;background-position:initial initial\;background-repeat:initial initial\;"><span style="color:black\;"><span style="font-family:arial\,sans-serif\;">With personalized flat screen TV&rsquo\;s at each table in our main bar\, there literally isn&rsquo\;t a bad seat in the house. Seasons greet us with no challenge as our second floor&rsquo\;s Pony Up Lounge is fit with a show stopping retractable roof\, creating a sunny oasis in the summer and a cozy lounge throughout the colder months for you and your friends to enjoy. </span></span></span></em><br />\n&nbsp\;<br />\n<em><span style="border:1pt none windowtext\;padding:0in\;background-position:initial initial\;background-repeat:initial initial\;"><span style="color:black\;"><span style="font-family:arial\,sans-serif\;">Weekends at The Pony offer you an unbeatable party with mixes from Chicago&rsquo\;s best DJ&rsquo\;s setting the sounds for your best night\, so you can dance the night away.&nbsp\;</span></span></span></em><em><span style="border:1pt none windowtext\;padding:0in\;background-position:initial initial\;background-repeat:initial initial\;"><span style="color:black\;"><span style="font-family:arial\,sans-serif\;">Pioneer Tavern Group&rsquo\;s Executive Chef Brian Jupiter has&nbsp\;curated&nbsp\;an excellent menu of classic fare\, turning things up a notch here at The Pony\, making the hard to resist comfort foods we love\, even tastier. How do we manage that? Simple\, in our kitchens we make your orders from scratch\, utilizing as much local produce\, protein\, and product as we can\, meaning the food you get is fresher from the get go. Our sauces are homemade\, our beef is grass fed\, and we love when you get to share an experience with us like our very own 16&rdquo\; Grilled Cheese (The Clydesdale).</span></span></span></em><br />\n&nbsp\;<br />\n<em><span style="border:1pt none windowtext\;padding:0in\;background-position:initial initial\;background-repeat:initial initial\;"><span style="color:black\;"><span style="font-family:arial\,sans-serif\;">Libations are handled with care too. Our seasonal and craft cocktails\, and our Pony punches\, are constantly being inspired by the seasons\, the holidays\, and are always mixed up to refresh and to impress. Our list of the best local\, classic\, and micro-brewed beers are made all the more perfect with our signature frosty mugs. So\, no need to be shy around us- Grab your friends and get ready to saddle up at The Pony!&nbsp\;</span></span></span></em><span style="color:black\;"><span style="font-family:arial\,sans-serif\;"><a href="http://theponychicago.com">http://theponychicago.com</a> </span></span></span><br />\n&nbsp\;
LOCATION:The Pony Inn 1638 W. Belmont Ave Chicago\, IL 60657
UID:e.1819.282
SEQUENCE:3
DTSTAMP:20260424T095139Z
URL:https://members.lakeviewroscoevillage.org/events/details/happy-hour-networking-at-the-pony-06-23-2014-282
END:VEVENT

END:VCALENDAR
