BEGIN:VCALENDAR
VERSION:2.0
PRODID:-//ChamberMaster//Event Calendar 2.0//EN
METHOD:PUBLISH
X-PUBLISHED-TTL:P3D
REFRESH-INTERVAL:P3D
CALSCALE:GREGORIAN
BEGIN:VEVENT
DTSTART;VALUE=DATE:20131028
DTEND;VALUE=DATE:20131118
TRANSP:TRANSPARENT
X-MICROSOFT-CDO-ALLDAYEVENT:TRUE
SUMMARY:Hat & Glove Donation Drive to support National Runaway Safeline
DESCRIPTION:Donate new hats & gloves to your favorite Southport or Lincoln Avenue business to support the National Runaway Safeline\, whose mission is to help keep America's runaway\, homeless and at-risk youth safe and off the streets.\n\n\n\n\n\nSpecial Offers when you donate!\n\nBazar Clothing Boutique: see store for details \n\nBuilding Blocks Toy Store: see store for details \n\nCrosby's Kitchen: Free appetizer\n\nDog-a-holics: see store for details \n\nIndira Salon Spa: see store for details \n\nJulius Meinl: Free 12oz coffee\n\nM2 and M4: Extra 10% off \n\nMint Julep: 25% off any winter accessory \n\nMusic Box Theatre: $3 off any popcorn\n\nNoodles & Co: 1 free bowl \n\nShe One: see store for details\n\nThat's Amore Florist 10% off (excludes wire orders)\n\nThe Music Playhouse: see store for details \n\nUPS Store: see store for details\n\nWhite Birch: 20% off any 1 candle\n\n\n\nPARTICIPATE: Businesses that would like to participate can print this flyer\,print this flyer\, attach it to a donation box and start collecting! Email info@lakeviewchamber.com to let us know you're participating and we'll add you to our website page.
X-ALT-DESC;FMTTYPE=text/html:Donate&nbsp\;new hats &amp\; gloves to your favorite Southport or Lincoln Avenue business to support the <a href="http://www.1800runaway.org">National Runaway Safeline</a>\, whose mission is&nbsp\;to help keep America&rsquo\;s runaway\, homeless and at-risk youth safe and off the streets.<br />\n<br />\n<br />\nSpecial Offers when you donate!<br />\n<a href="https://www.facebook.com/BazarChicago">Bazar Clothing Boutiqu</a>e: <font size="2">see store for details&nbsp\;</font><br />\n<a href="http://www.buildingblockstoys.com">Building</a><a href="http://www.buildingblockstoys.com/"><span style="color: rgb(0\, 0\, 205)\;"><a href="http://www.buildingblockstoys.com"> Blocks Toy Store</a>:</span></a><span style="color: rgb(0\, 0\, 205)\;"> </span><font size="2">see store for details&nbsp\;</font><br />\n<span style="font-size: 10pt\;"><span style="font-family: arial\,sans-serif\;"><a href="http://www.crosbyschicago.com/"><span style="color: rgb(0\, 0\, 255)\;">Crosby&rsquo\;s Kitchen</span></a></span>: Free appetizer</span><br />\n<span style="font-size: 10pt\;"><span style="font-family: arial\,sans-serif\;"><span style="color: rgb(34\, 34\, 34)\;"><a href="http://www.facebook.com/dogaholics"><span style="font-size: 10pt\;"><span style="font-family: arial\,sans-serif\;"><span style="color: rgb(34\, 34\, 34)\;"><a href="http://www.facebook.com/dogaholics"><span style="color: rgb(0\, 0\, 255)\;">Dog-a-holics</span></a></span></span></span></a></span></span></span><span style="font-size: 10pt\;"><span style="font-family: arial\,sans-serif\;"><span style="color: rgb(34\, 34\, 34)\;">: see store for details&nbsp\;<br />\n<a href="http://www.facebook.com/francescascollectionsboutique"><a href="http://www.facebook.com/francescascollectionsboutique"><span style="color: rgb(0\, 0\, 255)\;">Indira</span></a></a></span></span></span> Salon Spa: see store for details&nbsp\;<br />\n<span style="font-size: 10pt\;"><span style="font-family: arial\,sans-serif\;"><span style="color: rgb(34\, 34\, 34)\;"><a href="file:///C:/Users/STAFF/Desktop/Sarah%20Shared/Southport%20Merchant%20Mtgs%202013/Julius%20Meinl%20Coffee"><span style="color: rgb(0\, 0\, 255)\;">Julius <span style="color: blue\;">Meinl</span></span></a></span></span></span>: Free 12oz coffee<br />\n<span style="font-size: 10pt\;"><span style="font-family: arial\,sans-serif\;"><span style="color: rgb(34\, 34\, 34)\;"><a href="http://www.facebook.com/mboutique.southport"><span style="font-size: 10pt\;"><span style="font-family: arial\,sans-serif\;"><span style="color: rgb(34\, 34\, 34)\;"><a href="http://www.facebook.com/mboutique.southport"><span style="color: rgb(0\, 0\, 255)\;">M2</span></a></span></span></span></a></span></span></span><span style="font-size: 10pt\;"><span style="font-family: arial\,sans-serif\;"><span style="color: blue\;"> and M4</span></span></span><span style="font-size: 10pt\;"><span style="font-family: arial\,sans-serif\;"><span style="color: rgb(34\, 34\, 34)\;">: Extra 10% off </span></span></span><br />\n<span style="font-size: 10pt\;"><span style="font-family: arial\,sans-serif\;"><span style="color: rgb(34\, 34\, 34)\;"><a href="https://www.facebook.com/MintJulepBoutique"><span style="color: rgb(0\, 0\, 255)\;">Mint Julep</span></a></span>: 25% off any winter accessory </span></span><br />\n<span style="font-size: 10pt\;"><span style="font-family: arial\,sans-serif\;"><span style="color: rgb(34\, 34\, 34)\;"><a href="http://www.musicboxtheatre.com/"><span style="color: rgb(0\, 0\, 255)\;">Music Box Theatre</span></a></span>: $3 off any popcorn</span></span><br />\n<span style="font-size: 10pt\;"><span style="font-family: arial\,sans-serif\;"><span style="color: rgb(34\, 34\, 34)\;"><a href="http://www.noodles.com/"><span style="color: rgb(0\, 0\, 255)\;">Noodles &amp\; Co</span></a></span>: 1 free bowl </span></span><br />\n<span style="font-size: 10pt\;"><span style="font-family: arial\,sans-serif\;"><span style="color: rgb(34\, 34\, 34)\;"><a href="https://www.facebook.com/pages/She-One/56901388057"><span style="color: rgb(0\, 0\, 255)\;">She One</span></a></span>: see store for details<br />\n<span style="font-size: 11pt\;"><span style="font-family: calibri\,sans-serif\;"><span style="color: rgb(31\, 73\, 125)\;"><a href="http://www.thatsamoreflorist.com/"><span style="color: rgb(0\, 0\, 255)\;">That&rsquo\;s Amore Florist</span></a></span> </span></span><span style="font-size: 11pt\;"><span style="font-family: calibri\,sans-serif\;">10% off (excludes wire orders)</span></span></span></span><br />\n<span style="font-size: 10pt\;"><span style="font-family: arial\,sans-serif\;"><span style="color: rgb(34\, 34\, 34)\;"><a href="http://www.themusicclass.com/Center/Default.aspx?centerid=130"><span style="color: rgb(0\, 0\, 255)\;">The Music Playhouse:</span></a>&nbsp\;</span></span></span>see store for details&nbsp\;<br />\n<span style="font-size: 10pt\;"><span style="font-family: arial\,sans-serif\;"><span style="color: rgb(34\, 34\, 34)\;"><a href="http://www.theupsstorelocal.com/2745/"><span style="color: rgb(0\, 0\, 255)\;">UPS Store:</span></a></span></span></span>&nbsp\;see store for details<br />\n<span style="font-size: 10pt\;"><span style="font-family: arial\,sans-serif\;"><span style="color: rgb(34\, 34\, 34)\;"><a href="https://www.facebook.com/pages/White-Birch-Trading-Co/210239922347487"><span style="color: rgb(0\, 0\, 255)\;">White Birch</span></a></span>: 20% off any 1 candle<br />\n<br />\n<font size="2"><strong><span style="color: rgb(128\, 0\, 128)\;">PARTICIPATE:</span></strong>&nbsp\;Businesses that would like to participate can </font><a href="http://cloud.chambermaster.com/userfiles/UserFiles/chambers/1819/File/NRSDriveflyer.pdf">print this flyer\,</a><font size="2">print this flyer\, attach it to a donation box and start collecting! Email info@lakeviewchamber.com to let us know you&#39\;re participating and we&#39\;ll add you to our website page.</font></span></span>
LOCATION:Participating Southport and Lincoln Ave businesses.
UID:e.1819.68
SEQUENCE:3
DTSTAMP:20260424T205813Z
URL:https://members.lakeviewroscoevillage.org/events/details/hat-glove-donation-drive-to-support-national-runaway-safeline-10-28-2013-68
END:VEVENT

END:VCALENDAR
