BEGIN:VCALENDAR
VERSION:2.0
PRODID:-//ChamberMaster//Event Calendar 2.0//EN
METHOD:PUBLISH
X-PUBLISHED-TTL:P3D
REFRESH-INTERVAL:P3D
CALSCALE:GREGORIAN
BEGIN:VEVENT
DTSTART:20131019T140000Z
DTEND:20131019T200000Z
X-MICROSOFT-CDO-ALLDAYEVENT:FALSE
SUMMARY:Hawthorne Neighbors Mega Garage Sale
DESCRIPTION:Participating neighbors will be opening their garages and setting up tables on their lawns. Look for the Red Balloons!\n\n\n\nFlyer
X-ALT-DESC;FMTTYPE=text/html:Participating neighbors will be opening their garages and setting up tables on their lawns. Look for the Red Balloons!<br />\n<br />\n<a href="http://cloud.chambermaster.com/userfiles/UserFiles/chambers/1819/File/hawthornngaragesale213.jpg">Flyer</a>
LOCATION:From Belmont to Addison\, Clark to Racine
UID:e.1819.90
SEQUENCE:3
DTSTAMP:20260424T224433Z
URL:https://members.lakeviewroscoevillage.org/events/details/hawthorne-neighbors-mega-garage-sale-10-19-2013-90
END:VEVENT

END:VCALENDAR
