BEGIN:VCALENDAR
VERSION:2.0
PRODID:-//ChamberMaster//Event Calendar 2.0//EN
METHOD:PUBLISH
X-PUBLISHED-TTL:P3D
REFRESH-INTERVAL:P3D
CALSCALE:GREGORIAN
BEGIN:VEVENT
DTSTART;VALUE=DATE:20160827
DTEND;VALUE=DATE:20160828
TRANSP:TRANSPARENT
X-MICROSOFT-CDO-ALLDAYEVENT:TRUE
SUMMARY:Head/Heart Therapy Personal Growth Group
DESCRIPTION:Living whole-heartedly and daring greatly are regular practices\, but it can be challenging to fly solo on the path to healing. These monthly groups are designed to foster community and create a space to cultivate new skills and techniques for personal growth. Topics will be explored through a mix of psychoeducation\, verbal process and experiential exercises. August's session topic is perfectionism on Saturday\, August 27.
X-ALT-DESC;FMTTYPE=text/html:Living whole-heartedly and daring greatly are regular practices\, but it can be challenging to fly solo on the path to healing. These monthly groups are designed to foster community and create a space to cultivate new skills and techniques for personal growth. Topics will be explored through a mix of psychoeducation\, verbal process and experiential exercises. August&#39\;s session topic is perfectionism on Saturday\, August 27.
LOCATION:3759 N Ravenswood Ave\, Suite 133
UID:e.1819.3541
SEQUENCE:3
DTSTAMP:20260422T080715Z
URL:https://members.lakeviewroscoevillage.org/events/details/head-heart-therapy-personal-growth-group-08-27-2016-3541
END:VEVENT

END:VCALENDAR
