BEGIN:VCALENDAR
VERSION:2.0
PRODID:-//ChamberMaster//Event Calendar 2.0//EN
METHOD:PUBLISH
X-PUBLISHED-TTL:P3D
REFRESH-INTERVAL:P3D
CALSCALE:GREGORIAN
BEGIN:VEVENT
DTSTART;VALUE=DATE:20130918
DTEND;VALUE=DATE:20130919
TRANSP:TRANSPARENT
X-MICROSOFT-CDO-ALLDAYEVENT:TRUE
SUMMARY:Healing Hands for Arthritis at MASSAGE ENVY SPA
DESCRIPTION:Massage Envy Spa Lakeview and the Chicago Chapter of the Arthritis Foundation have joined forces to host the\n\n	third annual Healing Hands for Arthritis\, a one-day event to build awareness and raise funds to fight\n\n	arthritis. On September 18\, 2013\, Massage Envy Spa Lakeview will donate $10 from every one-hour massage or\n\n	facial to the Arthritis Foundation. \n\n	 \n\n	We strongly encourage the Lakeview community to come out on September 18 to help fight arthritis\, a disease that\n\n	affects 50 million Americans and is America's leading cause of disability.\n\n	To make an appointment for the Healing Hands for Arthritis event\, contact the Lakeview Massage Envy Spa at\n\n	773-747-3232. Reservations are now being accepted on a first-come\, first-serve basis. All proceeds\n\n	donated during Healing Hands for Arthritis will support the Arthritis Foundation's nationwide efforts to\n\n	prevent\, control and cure arthritis. Murad \, Massage Envy Spa's exclusive skin care partner\, will donate 10\n\n	percent of all sales from their products sold at Massage Envy Spa locations during the event to the Arthritis\n\n	Foundation. Additionally\, Wyndmere and BioFreeze will donate 10 percent of all sales from their products.
X-ALT-DESC;FMTTYPE=text/html:<div>\n	Massage Envy Spa Lakeview and the Chicago Chapter of the Arthritis Foundation have joined forces to host the</div>\n<div>\n	third annual Healing Hands for Arthritis\, a one-day event to build awareness and raise funds to fight</div>\n<div>\n	arthritis. On September 18\, 2013\, Massage Envy Spa Lakeview will donate $10 from every one-hour massage or</div>\n<div>\n	facial to the Arthritis Foundation.&nbsp\;<br />\n	&nbsp\;</div>\n<div>\n	We strongly encourage the Lakeview community to come out on September 18 to help fight arthritis\, a disease that</div>\n<div>\n	affects 50 million Americans and is America&rsquo\;s leading cause of disability.</div>\n<div>\n	To make an appointment for the Healing Hands for Arthritis event\, contact the Lakeview Massage Envy Spa at</div>\n<div>\n	773-747-3232. Reservations are now being accepted on a first-come\, first-serve basis. All proceeds</div>\n<div>\n	donated during Healing Hands for Arthritis will support the Arthritis Foundation&rsquo\;s nationwide efforts to</div>\n<div>\n	prevent\, control and cure arthritis. Murad&reg\;\, Massage Envy Spa&rsquo\;s exclusive skin care partner\, will donate 10</div>\n<div>\n	percent of all sales from their products sold at Massage Envy Spa locations during the event to the Arthritis</div>\n<div>\n	Foundation. Additionally\, Wyndmere and BioFreeze will donate 10 percent of all sales from their products.</div>\n
LOCATION:Massage Envy Spa Lakeview
UID:e.1819.37
SEQUENCE:3
DTSTAMP:20260425T004110Z
URL:https://members.lakeviewroscoevillage.org/events/details/healing-hands-for-arthritis-at-massage-envy-spa-09-18-2013-37
END:VEVENT

END:VCALENDAR
