BEGIN:VCALENDAR
VERSION:2.0
PRODID:-//ChamberMaster//Event Calendar 2.0//EN
METHOD:PUBLISH
X-PUBLISHED-TTL:P3D
REFRESH-INTERVAL:P3D
CALSCALE:GREGORIAN
BEGIN:VEVENT
DTSTART:20131019T140000Z
DTEND:20131019T180000Z
X-MICROSOFT-CDO-ALLDAYEVENT:FALSE
SUMMARY:Health Care Insurance Information Fair
DESCRIPTION:Congressman Quigley will be hosting the Health Care Insurance Information Fair where people can meet with navigators one-on-one\, ask questions about insurance plans and schedule appointments to enroll at a future date.\n\n\n\nFlyer
X-ALT-DESC;FMTTYPE=text/html:<span style="font-family: calibri\,sans-serif\;"><span style="font-size: 11pt\;">Congressman Quigley will be hosting the Health Care Insurance Information Fair where people can meet with navigators one-on-one\, ask questions about insurance plans and schedule appointments to enroll at a future date.<br />\n<br />\n<a href="http://cloud.chambermaster.com/userfiles/UserFiles/chambers/1819/File/ACAinfofair.jpg">Flyer</a></span></span><br />\n
LOCATION:Copernicus Center 5216 W. Lawrence Ave\, Chicago
UID:e.1819.101
SEQUENCE:3
DTSTAMP:20260424T224604Z
URL:https://members.lakeviewroscoevillage.org/events/details/health-care-insurance-information-fair-10-19-2013-101
END:VEVENT

END:VCALENDAR
