BEGIN:VCALENDAR
VERSION:2.0
PRODID:-//ChamberMaster//Event Calendar 2.0//EN
METHOD:PUBLISH
X-PUBLISHED-TTL:P3D
REFRESH-INTERVAL:P3D
CALSCALE:GREGORIAN
BEGIN:VEVENT
DTSTART;VALUE=DATE:20130812
DTEND;VALUE=DATE:20130817
TRANSP:TRANSPARENT
X-MICROSOFT-CDO-ALLDAYEVENT:TRUE
SUMMARY:Healthy Feet Week
DESCRIPTION:Lifestyle wants to ensure that your feet are staying happy and healthy!\n\nStop in the second week of any month and fill out our healthy feet survey\, and receive a FREE FOOT ASSESSMENT.\n\nA gift certificate will be provided to participants who qualify for custom mold orthotics.\n\n\n\nFlyer
X-ALT-DESC;FMTTYPE=text/html:<span style="font-size:14.0pt\;">Lifestyle wants to ensure that your feet are staying happy and healthy!</span><br />\n<span style="font-size:14.0pt\;">Stop in the second week of any month and fill out our healthy feet survey\, and receive a <span style="color:red\;">FREE FOOT ASSESSMENT.</span></span><br />\n<span style="font-size:14.0pt\;">A gift certificate will be provided to participants who qualify for custom mold orthotics.<br />\n<br />\n<a href="http://cloud.chambermaster.com/userfiles/UserFiles/chambers/1819/File/HealthyFeetWeekFlyer.docx">Flyer</a></span><br />\n
LOCATION:Lifestyle Physical Therapy 3130 N. Lincoln Ave.
UID:e.1819.32
SEQUENCE:3
DTSTAMP:20260425T023841Z
URL:https://members.lakeviewroscoevillage.org/events/details/healthy-feet-week-08-12-2013-32
END:VEVENT

END:VCALENDAR
