BEGIN:VCALENDAR
VERSION:2.0
PRODID:-//ChamberMaster//Event Calendar 2.0//EN
METHOD:PUBLISH
X-PUBLISHED-TTL:P3D
REFRESH-INTERVAL:P3D
CALSCALE:GREGORIAN
BEGIN:VEVENT
DTSTART;VALUE=DATE:20150116
DTEND;VALUE=DATE:20150301
TRANSP:TRANSPARENT
X-MICROSOFT-CDO-ALLDAYEVENT:TRUE
SUMMARY:Heather Green\, Victims & Villains
DESCRIPTION:Victims and Villains\, a solo exhibition of twelve paintings by Chicago artist Heather Green will be on view at Kruger Gallery Chicago\, 3709 N Southport Avenue\, from January 16   February 28\, 2015. Green\, a provocative\, emerging artist uses portraiture as a call to activism in response to her perceived instances of injustice within today's cultural climate. \n\nThe portrait is the central motif in most of Green's work. Painted with strong\, deliberate brush strokes\, her portraits achieve an expressive style of realism with great attention to her subject's expression. The large- scale of her paintings dwarfs viewers and challenges her audience to initiate change on both a political and social level.
X-ALT-DESC;FMTTYPE=text/html:<div>\n<div>\n<div>\n<div>\n<p><span style="font-family:helveticacy\; font-size:12.000000pt">Victims and Villains\, a solo exhibition of twelve paintings by Chicago artist Heather Green will be on view at Kruger Gallery Chicago\, 3709 N Southport Avenue\, from January 16 &ndash\; February 28\, 2015. Green\, a provocative\, emerging artist uses portraiture as a call to activism in response to her perceived instances of injustice within today&rsquo\;s cultural climate. </span></p>\n\n<p><span style="font-family:helveticacy\; font-size:12.000000pt">The portrait is the central motif in most of Green&rsquo\;s work. Painted with strong\, deliberate brush strokes\, her portraits achieve an expressive style of realism with great attention to her subject&rsquo\;s expression. The large- scale of her paintings dwarfs viewers and challenges her audience to initiate change on both a political and social level.&nbsp\;</span></p>\n</div>\n</div>\n</div>\n</div>\n
LOCATION:Kruger Gallery Chicago\, 3709 N Southport Ave\, Chicago IL 60613
UID:e.1819.1493
SEQUENCE:3
DTSTAMP:20260423T171357Z
URL:https://members.lakeviewroscoevillage.org/events/details/heather-green-victims-villains-01-16-2015-1493
END:VEVENT

END:VCALENDAR
