BEGIN:VCALENDAR
VERSION:2.0
PRODID:-//ChamberMaster//Event Calendar 2.0//EN
METHOD:PUBLISH
X-PUBLISHED-TTL:P3D
REFRESH-INTERVAL:P3D
CALSCALE:GREGORIAN
BEGIN:VEVENT
DTSTART;VALUE=DATE:20140705
DTEND;VALUE=DATE:20140706
TRANSP:TRANSPARENT
X-MICROSOFT-CDO-ALLDAYEVENT:TRUE
SUMMARY:Heritage Bicycles Art Pop-Up
DESCRIPTION:Stop by Heritage Bicycles & General Store for a pop-up art show featuring Claybird Pottery Studio and Annie Abdelnour Ceramics.\n\n\n\nHandmade\, local\, ceramic wares. Two potters\, one day.
X-ALT-DESC;FMTTYPE=text/html:Stop by Heritage Bicycles &amp\; General Store for a pop-up art show featuring Claybird&nbsp\;Pottery Studio and Annie Abdelnour Ceramics.<br />\n<br />\nHandmade\, local\, ceramic wares. Two potters\, one day.<br />\n<br />\n&nbsp\;
LOCATION:Heritage Bicycles- outdoor pop-up 2959 N. Lincoln Ave Chicago\, IL 60657
UID:e.1819.328
SEQUENCE:3
DTSTAMP:20260424T052345Z
URL:https://members.lakeviewroscoevillage.org/events/details/heritage-bicycles-art-pop-up-07-05-2014-328
END:VEVENT

END:VCALENDAR
