BEGIN:VCALENDAR
VERSION:2.0
PRODID:-//ChamberMaster//Event Calendar 2.0//EN
METHOD:PUBLISH
X-PUBLISHED-TTL:P3D
REFRESH-INTERVAL:P3D
CALSCALE:GREGORIAN
BEGIN:VEVENT
DTSTART:20140617T113000Z
DTEND:20140617T140000Z
X-MICROSOFT-CDO-ALLDAYEVENT:FALSE
SUMMARY:Heritage Bicycles Commuter Pit Stop
DESCRIPTION:Heritage Bicycles Commuter Pit Stop\, at Lincoln and Wellington\, Tue.\, June 17\, 6:30-9AM\, with support from Whole Foods: Stop for free coffee\, giveaways and bike mechanic.
X-ALT-DESC;FMTTYPE=text/html:Heritage Bicycles Commuter Pit Stop\, at Lincoln and Wellington\, Tue.\, June 17\,&nbsp\;6:30-9AM\, with support from Whole Foods: Stop for free coffee\, giveaways and bike mechanic.
LOCATION:Lincoln and Wellington
UID:e.1819.317
SEQUENCE:3
DTSTAMP:20260424T095059Z
URL:https://members.lakeviewroscoevillage.org/events/details/heritage-bicycles-commuter-pit-stop-06-17-2014-317
END:VEVENT

END:VCALENDAR
