BEGIN:VCALENDAR
VERSION:2.0
PRODID:-//ChamberMaster//Event Calendar 2.0//EN
METHOD:PUBLISH
X-PUBLISHED-TTL:P3D
REFRESH-INTERVAL:P3D
CALSCALE:GREGORIAN
BEGIN:VEVENT
DTSTART:20161207T010000Z
DTEND:20161207T030000Z
X-MICROSOFT-CDO-ALLDAYEVENT:FALSE
SUMMARY:Holiday Cava Class
DESCRIPTION:Join us for an evening of Spanish bubbles and fun at The Spanish Square. We will taste through 8 wines. Michael Scharber from Cream Wine will take us through 5 cavas (Spain's famous bubbly) and 3 still wines to familiarize us with the Pened s region and the varieties from there. Delicious Spanish appetizers will be provided by Executive Chef\, Rafael Hurtado. It will be the perfect opportunity to learn about some of the amazing wine Spain has to offer and pick out some great vino for the holiday season!  Call The Spanish Square to reserve your spot at 773.717.7900 or email info@thespanishsquare.com or buy your tickets online.
X-ALT-DESC;FMTTYPE=text/html:<span style="color:rgb(10\, 10\, 10)\; font-family:pt sans\,arial\,helvetica\,sans-serif">Join us for an evening of Spanish bubbles and fun at The Spanish Square. We will taste through 8 wines. Michael Scharber from Cream Wine will take us through 5 cavas (Spain&rsquo\;s famous bubbly) and 3 still wines to familiarize us with the Pened&eacute\;s region and the varieties from there. Delicious Spanish appetizers will be provided by Executive Chef\, Rafael Hurtado. It will be the perfect opportunity to learn about some of the amazing wine Spain has to offer and pick out some great vino for the holiday season!&nbsp\; Call The Spanish Square to reserve your spot at 773.717.7900 or&nbsp\;email info@thespanishsquare.com or buy your tickets online.</span>
LOCATION:The Spanish Square 1358 W Belmont Ave Chicago IL 60657
UID:e.1819.4857
SEQUENCE:3
DTSTAMP:20260420T045536Z
URL:https://members.lakeviewroscoevillage.org/events/details/holiday-cava-class-12-06-2016-4857
END:VEVENT

END:VCALENDAR
