BEGIN:VCALENDAR
VERSION:2.0
PRODID:-//ChamberMaster//Event Calendar 2.0//EN
METHOD:PUBLISH
X-PUBLISHED-TTL:P3D
REFRESH-INTERVAL:P3D
CALSCALE:GREGORIAN
BEGIN:VEVENT
DTSTART:20161203T200000Z
DTEND:20161203T220000Z
X-MICROSOFT-CDO-ALLDAYEVENT:FALSE
SUMMARY:Holiday Sample and Basket Event
DESCRIPTION:Our biggest sample event of the year!\n\n"Try it before you buy it!" The Spanish Square welcomes you to sample some of our favorite market items including chocolates\, turr n\, peppers\, almonds\, olives\, fish preserves\, olive oils and vinegar\, just to name a few. Plus\, we will even have several beautiful wines available to try in the Bodega! It is the perfect opportunity to try some of the best of Spain and create a completely customized holiday basket for your foodie friend or loved one!
X-ALT-DESC;FMTTYPE=text/html:<p style="text-align: center\;"><strong>Our biggest sample event of the year!</strong></p>\n\n<p>&ldquo\;Try it before you buy it!&rdquo\; The Spanish Square welcomes you to sample some of our favorite market items including chocolates\, turr&oacute\;n\, peppers\, almonds\, olives\, fish preserves\, olive oils and vinegar\, just to name a few. Plus\, we will even have several beautiful wines available to try in the Bodega! It is the perfect opportunity to try some of the best of Spain and create a completely customized holiday basket for your foodie friend or loved one!</p>\n
LOCATION:The Spanish Square 1358 W Belmont Ave Chicago IL 60657
UID:e.1819.4851
SEQUENCE:3
DTSTAMP:20260420T045806Z
URL:https://members.lakeviewroscoevillage.org/events/details/holiday-sample-and-basket-event-12-03-2016-4851
END:VEVENT

END:VCALENDAR
