BEGIN:VCALENDAR
VERSION:2.0
PRODID:-//ChamberMaster//Event Calendar 2.0//EN
METHOD:PUBLISH
X-PUBLISHED-TTL:P3D
REFRESH-INTERVAL:P3D
CALSCALE:GREGORIAN
BEGIN:VEVENT
DTSTART:20161216T190000Z
DTEND:20161216T223000Z
X-MICROSOFT-CDO-ALLDAYEVENT:FALSE
SUMMARY:Holiday Social/Fundraiser for the Lakeview Pantry
DESCRIPTION:Join your real estate colleagues as we collect food and/or donations for the Lakeview Food Pantry on Friday December 16th at Beermiscuous from 1:00 - 4:30. All we ask of you is either bring a food donation or make a $10 contribution and for your efforts receive a craft beer draft and food will also be provided. Door prizes tickets will be available for purchase\, 1 ticket for $5 or 8 tickets for $20. All proceeds go directly to the Lakeview Pantry.\n\n\n\nWe accept unopened/unexpired shelf stable food. Here is a list of our most needed items for the month of December: Canned fruit (juice/water packed)\, Meat ravioli and sauce\, Cooking oils and spices\, Toothpaste & toothbrushes\, Shampoo\, Fruit Juice (shelf stable).
X-ALT-DESC;FMTTYPE=text/html:<span style="color:rgb(75\, 79\, 86)\; font-size:14px">Join your real estate colleagues as we collect food and/or donations for the Lakeview Food Pantry on Friday December 16th at Beermiscuous from 1:00 - 4:30. All we ask of you is either bring a food donation or make a $10 contribution and for your efforts receive a craft beer draft and food will also be provided. Door prizes tickets will be available for purchase\, 1 ticket for $5 or 8 tickets for $20. All proceeds go directly to the Lakeview Pantry.</span><br />\n<br />\n<span style="color:rgb(75\, 79\, 86)\; font-size:14px">We accept unopened/unexpired shelf stable food. Here is a list of our most needed items for the month of December: Canned fruit (juice/water packed)\, Meat ravioli and sauce\, Cooking oils and spices\, Toothpaste &amp\; toothbrushes\, Shampoo\, Fruit Juice (shelf stable).</span>
LOCATION:Beermiscuous 2812 N Lincoln Ave\, Chicago\, Illinois 60657
UID:e.1819.4872
SEQUENCE:3
DTSTAMP:20260420T065240Z
URL:https://members.lakeviewroscoevillage.org/events/details/holiday-social-fundraiser-for-the-lakeview-pantry-12-16-2016-4872
END:VEVENT

END:VCALENDAR
