BEGIN:VCALENDAR
VERSION:2.0
PRODID:-//ChamberMaster//Event Calendar 2.0//EN
METHOD:PUBLISH
X-PUBLISHED-TTL:P3D
REFRESH-INTERVAL:P3D
CALSCALE:GREGORIAN
BEGIN:VEVENT
DTSTART:20171202T140000Z
DTEND:20171203T000000Z
X-MICROSOFT-CDO-ALLDAYEVENT:FALSE
SUMMARY:Home Carpet One 47th Anniversary Sale
DESCRIPTION:Please join us Saturday\, December 2nd at Home Carpet One for our 47th Anniversary Sale. To show how much we appreciate our customers\, we are offering a FREE GIFT to anyone that joins us on the 2nd.1 Plus\, visit our showroom between 8 am and 6 pm to enter to win a 2018 wine club membership from PLONK Wine Club! The winner will be selected from entries received at the Showroom. No purchase necessary to enter.
X-ALT-DESC;FMTTYPE=text/html:Please join us Saturday\, December 2nd at Home Carpet One for our 47th Anniversary Sale. To show how much we appreciate our customers\, we are offering a FREE GIFT to anyone that joins us on the 2nd.1 Plus\, visit our showroom between 8 am and 6 pm to enter to win a 2018 wine club membership from PLONK Wine Club! The winner will be selected from entries received at the Showroom. No purchase necessary to enter.
LOCATION:3071 N Lincoln Ave Chicago\, IL 60657
UID:e.1819.11217
SEQUENCE:3
DTSTAMP:20260419T123820Z
URL:https://members.lakeviewroscoevillage.org/events/details/home-carpet-one-47th-anniversary-sale-12-02-2017-11217
END:VEVENT

END:VCALENDAR
