BEGIN:VCALENDAR
VERSION:2.0
PRODID:-//ChamberMaster//Event Calendar 2.0//EN
METHOD:PUBLISH
X-PUBLISHED-TTL:P3D
REFRESH-INTERVAL:P3D
CALSCALE:GREGORIAN
BEGIN:VEVENT
DTSTART;VALUE=DATE:20150325
DTEND;VALUE=DATE:20150326
TRANSP:TRANSPARENT
X-MICROSOFT-CDO-ALLDAYEVENT:TRUE
SUMMARY:Hop Around the Shops
DESCRIPTION:Hop into your favorite local spots to find discounts\, coupons and samples hidden in plastic eggs and meet adoptable dogs along the way.
X-ALT-DESC;FMTTYPE=text/html:Hop into your favorite local spots to find discounts\, coupons and samples hidden in plastic eggs and meet adoptable dogs along the way.&nbsp\;
LOCATION:On Southport between Roscoe & Grace www.hoparoundtheshops.com
UID:e.1819.1546
SEQUENCE:3
DTSTAMP:20260423T151909Z
URL:https://members.lakeviewroscoevillage.org/events/details/hop-around-the-shops-03-25-2015-1546
END:VEVENT

END:VCALENDAR
