BEGIN:VCALENDAR
VERSION:2.0
PRODID:-//ChamberMaster//Event Calendar 2.0//EN
METHOD:PUBLISH
X-PUBLISHED-TTL:P3D
REFRESH-INTERVAL:P3D
CALSCALE:GREGORIAN
BEGIN:VEVENT
DTSTART:20140227T000000Z
DTEND:20140227T030000Z
X-MICROSOFT-CDO-ALLDAYEVENT:FALSE
SUMMARY:How I Met Your Mother Painting Party
DESCRIPTION:In honor of the last season of CBS's "How I Met Your Mother\," join us at our *BYOB* studio as we paint the blue French horn! By registering\, you'll be entered to win a copy of "The Bro Code."\n\n					\n\n					Ticket price includes all paint supplies\, instruction\, aprons and a 16x20 take-home canvas!\n\n					\n\n					BYOB begins at 6:00pm.\n\n					Painting from 6:30 - 9:00pm.\n\n					\n\n					Cancellations made within 48 hours are subject only to a studio credit. Sorry\, there will be no credits or refunds for "no shows.\n\n					\n\n					Because alcohol is present during our events\, we restrict attendance to adults 18 and over. Alcohol consumption is permitted only for adults over 21. Please have an ID available.\n\n					\n\n					We look forward to seeing you soon!\n			\n		\n		\n			\n				Date/Time: Wed\, 2/26/2014\, 6:00 - 9:00 PM\n		\n		\n			\n				Location: Lakeview Studio - 2900 N Lincoln Ave\n		\n		\n			\n				Price: $35.00
X-ALT-DESC;FMTTYPE=text/html:<table border="0" cellpadding="10" cellspacing="3" width="100%">\n	<tbody>\n		<tr>\n			<td align="left" class="previewDesc1">\n				<p>\n					In honor of the last season of CBS&#39\;s &quot\;How I Met Your Mother\,&quot\; join us at our *BYOB* studio as we paint the blue French horn! By registering\, you&#39\;ll be entered to win a copy of &quot\;The Bro Code.&quot\;<br />\n					<br />\n					Ticket price includes all paint supplies\, instruction\, aprons and a 16x20 take-home canvas!<br />\n					<br />\n					BYOB begins at 6:00pm.<br />\n					Painting from 6:30 - 9:00pm.<br />\n					<br />\n					Cancellations made within 48 hours are subject only to a studio credit. Sorry\, there will be no credits or refunds for &ldquo\;no shows.<br />\n					<br />\n					Because alcohol is present during our events\, we restrict attendance to adults 18 and over. Alcohol consumption is permitted only for adults over 21. Please have an ID available.<br />\n					<br />\n					We look forward to seeing you soon!</p>\n			</td>\n		</tr>\n		<tr>\n			<td align="left" class="previewText1">\n				<span class="previewLabel1"><b>Date/Time:</b></span> Wed\, 2/26/2014\, 6:00 - 9:00 PM</td>\n		</tr>\n		<tr>\n			<td align="left" class="previewText1">\n				<span class="previewLabel1"><b>Location:</b></span> Lakeview Studio - 2900 N Lincoln Ave</td>\n		</tr>\n		<tr>\n			<td align="left" class="previewText1">\n				<span class="previewLabel1"><b>Price:</b></span> $35.00</td>\n		</tr>\n	</tbody>\n</table>\n
LOCATION:Bottle & Bottega Lakeview Studio 2900 N Lincoln Ave Chicago\, IL 60657
UID:e.1819.190
SEQUENCE:3
DTSTAMP:20260424T153741Z
URL:https://members.lakeviewroscoevillage.org/events/details/how-i-met-your-mother-painting-party-02-26-2014-190
END:VEVENT

END:VCALENDAR
