BEGIN:VCALENDAR
VERSION:2.0
PRODID:-//ChamberMaster//Event Calendar 2.0//EN
METHOD:PUBLISH
X-PUBLISHED-TTL:P3D
REFRESH-INTERVAL:P3D
CALSCALE:GREGORIAN
BEGIN:VEVENT
DTSTART:20140621T120000Z
DTEND:20140621T160000Z
X-MICROSOFT-CDO-ALLDAYEVENT:FALSE
SUMMARY:Hunger Walk at Soldier Field
DESCRIPTION:Welcome to the Lakeview Pantry Team page for the 29th Annual Greater Chicago Food Depository Hunger Walk!\n\nThe Hunger Walk is a 5K walk to end hunger in Chicago and you can join our team and walk on behalf of Lakeview Pantry. On-site registration will open on June 21st at 7 a.m. and the walk will step off at 8:30 a.m. Every walker earns $12 in food credits from the Greater Chicago Food Depository\, just for showing up and walking! This is enough to purchase 120 pounds of food for Lakeview Pantry.\n\n \n\nAny donations made in honor of our team also earn Lakeview Pantry credits with the Greater Chicago Food Depository. If you choose to not use the team tools\, but would like to walk behalf on Lakeview Pantry as an individual\, please include our agency number for Lakeview Pantry\, A00014.\n\n \n\n==========\n\n29th Annual Hunger Walk\n\nJune 21\, 2014\n\nRegistration at 7 a.m.\; Step-off at 8:30 a.m\n\nSoldier Field
X-ALT-DESC;FMTTYPE=text/html:<p style="font-family: Verdana\, Arial\, Helvetica\, sans-serif\; color: rgb(85\, 85\, 85)\; line-height: normal\;"><span style="font-family: verdana\, geneva\; font-size: small\;">Welcome to the Lakeview Pantry Team page for the 29th Annual Greater Chicago Food Depository Hunger Walk!</span></p>\n\n<div style="color: rgb(85\, 85\, 85)\; font-family: Verdana\, Helvetica\, Arial\, sans-serif\; line-height: normal\;"><span style="font-family: verdana\, geneva\; font-size: small\;">The Hunger Walk is a 5K walk to end hunger in Chicago and you can join our team and walk on behalf of Lakeview Pantry.&nbsp\;On-site registration will open on June 21st at 7 a.m. and the walk will step off at 8:30 a.m.&nbsp\;<strong>Every walker earns $12 in food credits from the Greater Chicago Food Depository\, just for showing up and walking!</strong>&nbsp\;This is enough to purchase 120 pounds of food for Lakeview Pantry.</span></div>\n\n<div style="color: rgb(85\, 85\, 85)\; font-family: Verdana\, Helvetica\, Arial\, sans-serif\; line-height: normal\;">&nbsp\;</div>\n\n<div style="color: rgb(85\, 85\, 85)\; font-family: Verdana\, Helvetica\, Arial\, sans-serif\; line-height: normal\;"><span style="font-family: verdana\, geneva\; font-size: small\;">Any donations made in honor of our team also earn Lakeview Pantry credits with the Greater Chicago Food Depository.&nbsp\;If you choose to not use the team tools\, but would like to walk behalf on Lakeview Pantry as an individual\, please include our agency number for&nbsp\;<strong>Lakeview Pantry\, A00014</strong>.</span></div>\n\n<div style="color: rgb(85\, 85\, 85)\; font-family: Verdana\, Helvetica\, Arial\, sans-serif\; line-height: normal\;">&nbsp\;</div>\n\n<p style="font-family: Verdana\, Arial\, Helvetica\, sans-serif\; color: rgb(85\, 85\, 85)\; line-height: normal\;"><span style="font-family: verdana\, geneva\; font-size: small\;">==========</span></p>\n\n<p style="font-family: Verdana\, Arial\, Helvetica\, sans-serif\; color: rgb(85\, 85\, 85)\; line-height: normal\;"><span style="font-family: verdana\, geneva\; font-size: small\;">29th Annual Hunger Walk</span><br />\n<span style="font-family: verdana\, geneva\; font-size: small\;">June 21\, 2014</span><br />\n<span style="font-family: verdana\, geneva\; font-size: small\;">Registration at 7 a.m.\; Step-off at 8:30 a.m</span><br />\n<span style="font-family: verdana\, geneva\; font-size: small\;">Soldier Field</span></p>\n\n<p style="font-family: Verdana\, Arial\, Helvetica\, sans-serif\; color: rgb(85\, 85\, 85)\; line-height: normal\;">&nbsp\;</p>\n
LOCATION:Soldier Field
UID:e.1819.326
SEQUENCE:3
DTSTAMP:20260424T095337Z
URL:https://members.lakeviewroscoevillage.org/events/details/hunger-walk-at-soldier-field-06-21-2014-326
END:VEVENT

END:VCALENDAR
