BEGIN:VCALENDAR
VERSION:2.0
PRODID:-//ChamberMaster//Event Calendar 2.0//EN
METHOD:PUBLISH
X-PUBLISHED-TTL:P3D
REFRESH-INTERVAL:P3D
CALSCALE:GREGORIAN
BEGIN:VEVENT
DTSTART:20160409T153000Z
DTEND:20160409T170000Z
X-MICROSOFT-CDO-ALLDAYEVENT:FALSE
SUMMARY:Icky\, Gooey\, Bubbly Fun at Bright Horizons
DESCRIPTION:Join us for some Icky\, Gooey\, Bubbly fun this Saturday in our new enrichment spaces. And\, learn more about how science is just one part of the exceptional preschool learning experience at Bright Horizons at Lakeview. Children ages 2-6 and their families will enjoy this event.
X-ALT-DESC;FMTTYPE=text/html:Join us for some Icky\, Gooey\, Bubbly fun this Saturday in our new enrichment spaces. And\, learn more about how science is just one part of the exceptional preschool learning experience at Bright Horizons at Lakeview. Children ages 2-6 and their families will enjoy this event.
LOCATION:Bright Horizons at Lakeview 2840 North Lincoln Avenue Chicago\, IL 60657
UID:e.1819.2873
SEQUENCE:3
DTSTAMP:20260422T132548Z
URL:https://members.lakeviewroscoevillage.org/events/details/icky-gooey-bubbly-fun-at-bright-horizons-04-09-2016-2873
END:VEVENT

END:VCALENDAR
