BEGIN:VCALENDAR
VERSION:2.0
PRODID:-//ChamberMaster//Event Calendar 2.0//EN
METHOD:PUBLISH
X-PUBLISHED-TTL:P3D
REFRESH-INTERVAL:P3D
CALSCALE:GREGORIAN
BEGIN:VEVENT
DTSTART;VALUE=DATE:20130822
DTEND;VALUE=DATE:20130823
TRANSP:TRANSPARENT
X-MICROSOFT-CDO-ALLDAYEVENT:TRUE
SUMMARY:Illinois Masonic Preventive Health Screening
DESCRIPTION:Life Line Screening will be at Advocate Illinois Masonic Medical Center on Thursday\, August 22\, 2013 offering safe\, painless\, non-invasive preventive health screenings that are typically not a part of a routine physical. To be more proactive about your health and to live longer for yourself\, your family and your community\, please register for these potentially life-saving tests today. Please refer to the attached flyer to get more info about how you can sign up while receiving $10 off any package priced above $129. For only $139 (regularly $149) you can learn your risk of having stroke or vascular disease. There is no time like the present to take action!\n\n\n\nFlyer
X-ALT-DESC;FMTTYPE=text/html:Life Line Screening will be at Advocate Illinois Masonic Medical Center on Thursday\, August 22\, 2013 offering safe\, painless\, non-invasive preventive health screenings that are typically not a part of a routine physical. To be more proactive about your health and to live longer for yourself\, your family and your community\, please register for these potentially life-saving tests today. Please refer to the attached flyer to get more info about how you can sign up while receiving $10 off any package priced above $129. For only $139 (regularly $149) you can learn your risk of having stroke or vascular disease. There is no time like the present to take action!<br />\n<br />\n<a href="http://cloud.chambermaster.com/userfiles/UserFiles/chambers/1819/File/ILMasonicStrokeStreamingPDF13-0822.pdf">Flyer</a>
LOCATION:
UID:e.1819.25
SEQUENCE:3
DTSTAMP:20260425T023201Z
URL:https://members.lakeviewroscoevillage.org/events/details/illinois-masonic-preventive-health-screening-08-22-2013-25
END:VEVENT

END:VCALENDAR
