BEGIN:VCALENDAR
VERSION:2.0
PRODID:-//ChamberMaster//Event Calendar 2.0//EN
METHOD:PUBLISH
X-PUBLISHED-TTL:P3D
REFRESH-INTERVAL:P3D
CALSCALE:GREGORIAN
BEGIN:VEVENT
DTSTART;VALUE=DATE:20140425
DTEND;VALUE=DATE:20140427
TRANSP:TRANSPARENT
X-MICROSOFT-CDO-ALLDAYEVENT:TRUE
SUMMARY:Inaside Chicago Dance presents Inaside Chicago Dance 10th Anniversary Spring Concert
DESCRIPTION:Inaside Chicago Dance celebrates 10 years of innovative contemporary jazz dance!
X-ALT-DESC;FMTTYPE=text/html:Inaside Chicago Dance celebrates 10 years of innovative contemporary jazz dance!
LOCATION:Athenaeum Main Stage 2936 N. Southport Ave. Lobby level Chicago\, IL 60657 Lincoln\, Wellington and Southport CTA Bus #9\; Brown Line Wellington Stop
UID:e.1819.255
SEQUENCE:3
DTSTAMP:20260424T121702Z
URL:https://members.lakeviewroscoevillage.org/events/details/inaside-chicago-dance-presents-inaside-chicago-dance-10th-anniversary-spring-concert-04-25-2014-255
END:VEVENT

END:VCALENDAR
