BEGIN:VCALENDAR
VERSION:2.0
PRODID:-//ChamberMaster//Event Calendar 2.0//EN
METHOD:PUBLISH
X-PUBLISHED-TTL:P3D
REFRESH-INTERVAL:P3D
CALSCALE:GREGORIAN
BEGIN:VEVENT
DTSTART:20160228T153000Z
DTEND:20160228T200000Z
X-MICROSOFT-CDO-ALLDAYEVENT:FALSE
SUMMARY:Indoor Farmers Market
DESCRIPTION:Beat the winter doldrums and enjoy a wide range of seasonal\, sustainably-produced goods from local farmers and vendors at this indoor market. Take home winter-available produce\, honey\, meats\, cheeses\, baked goods and a wide variety of specialty items. Plus\, learn about ways to improve the energy efficiency in your home.
X-ALT-DESC;FMTTYPE=text/html:Beat the winter doldrums and enjoy a wide range of seasonal\, sustainably-produced goods from local farmers and vendors at this indoor market. Take home winter-available produce\, honey\, meats\, cheeses\, baked goods and a wide variety of specialty items. Plus\, learn about ways to improve the energy efficiency in your home.
LOCATION:Temple Sholom of Chicago 3480 N. Lake Shore Drive Corner of Stratford and LSD
UID:e.1819.2693
SEQUENCE:3
DTSTAMP:20260422T171250Z
URL:https://members.lakeviewroscoevillage.org/events/details/indoor-farmers-market-02-28-2016-2693
END:VEVENT

END:VCALENDAR
