BEGIN:VCALENDAR
VERSION:2.0
PRODID:-//ChamberMaster//Event Calendar 2.0//EN
METHOD:PUBLISH
X-PUBLISHED-TTL:P3D
REFRESH-INTERVAL:P3D
CALSCALE:GREGORIAN
BEGIN:VEVENT
DTSTART:20140518T180000Z
DTEND:20140518T210000Z
X-MICROSOFT-CDO-ALLDAYEVENT:FALSE
SUMMARY:INTRODUCTION TO SELF-DEFENSE WORKSHOP
DESCRIPTION:This workshop is a basic introduction to Self-Defense\, as opposed to Martial-Arts.  We will focus on the psychological aspects of self-defense\, debunking myths about self-defense\, and developing practical skills for dealing with and avoiding violence in the real world.  We will also focus on topics not typically covered or under-emphasized in martial arts training\, such as awareness and avoidance.   \n\n \n\nThis class is intended as a primer\, not a full course of instruction.  A little knowledge or misinformation can be very dangerous in the context of self-defense\, and our goal is to correct many popular misconceptions while giving a few simple tools to keep students safe.  Students of the intro class will receive a discount on the full self-defense course offered later this summer. \n\n\n\nAll are welcome: there are no age or experience requirements.  However\, in the spirit of Mother's Day\, we are encouraging mothers and daughters to attend together.  \n\n\n\nThe proceeds of this event will go to Between Friends Chicago\, a local non-profit organization devoted to breaking the cycle of domestic violence\, and building a community free of abuse.
X-ALT-DESC;FMTTYPE=text/html:<div style="margin: 0px\; padding: 0px\; border: 0px\; font-size: 13px\; font-family: 'Helvetica Neue'\, Helvetica\, 'Lucida Grande'\, 'Lucida Sans Unicode'\, 'Lucida Sans'\, Arial\, sans-serif\; vertical-align: baseline\; color: rgb(68\, 68\, 68)\; line-height: 20.799999237060547px\; background-color: rgb(249\, 249\, 245)\;">This workshop is a basic introduction to Self-Defense\, as opposed to Martial-Arts. &nbsp\;We will focus on the psychological aspects of self-defense\, debunking myths about self-defense\, and developing practical skills for dealing with and avoiding violence in the real world. &nbsp\;We will also focus on topics not typically covered or under-emphasized in martial arts training\, such as awareness and avoidance. &nbsp\;&nbsp\;</div>\n\n<div style="margin: 0px\; padding: 0px\; border: 0px\; font-size: 13px\; font-family: 'Helvetica Neue'\, Helvetica\, 'Lucida Grande'\, 'Lucida Sans Unicode'\, 'Lucida Sans'\, Arial\, sans-serif\; vertical-align: baseline\; color: rgb(68\, 68\, 68)\; line-height: 20.799999237060547px\; background-color: rgb(249\, 249\, 245)\;">&nbsp\;</div>\n\n<div style="margin: 0px\; padding: 0px\; border: 0px\; font-size: 13px\; font-family: 'Helvetica Neue'\, Helvetica\, 'Lucida Grande'\, 'Lucida Sans Unicode'\, 'Lucida Sans'\, Arial\, sans-serif\; vertical-align: baseline\; color: rgb(68\, 68\, 68)\; line-height: 20.799999237060547px\; background-color: rgb(249\, 249\, 245)\;">This class is intended as a primer\, not a full course of instruction. &nbsp\;A little knowledge or misinformation can be very dangerous in the context of self-defense\, and our goal is to correct many popular misconceptions while giving a few simple tools to keep students safe. &nbsp\;Students of the intro class will receive a discount on the full self-defense course offered later this summer.&nbsp\;<br />\n<br />\nAll are welcome: there are no age or experience requirements. &nbsp\;However\, in the spirit of Mother&#39\;s Day\, we are encouraging mothers and daughters to attend together. &nbsp\;<br />\n<br />\n<strong>The proceeds of this event will go to Between Friends Chicago\, a local non-profit organization devoted to breaking the cycle of domestic violence\, and building a community free of abuse.&nbsp\;</strong></div>\n
LOCATION:Tandang Garimot Martial Arts & Wellness\, located on Lincoln Avenue between George St. and Wellington. Street parking is available\, and typically free on Sundays.
UID:e.1819.284
SEQUENCE:3
DTSTAMP:20260424T094830Z
URL:https://members.lakeviewroscoevillage.org/events/details/introduction-to-self-defense-workshop-05-18-2014-284
END:VEVENT

END:VCALENDAR
