BEGIN:VCALENDAR
VERSION:2.0
PRODID:-//ChamberMaster//Event Calendar 2.0//EN
METHOD:PUBLISH
X-PUBLISHED-TTL:P3D
REFRESH-INTERVAL:P3D
CALSCALE:GREGORIAN
BEGIN:VEVENT
DTSTART:20151130T230000Z
DTEND:20151201T040000Z
X-MICROSOFT-CDO-ALLDAYEVENT:FALSE
SUMMARY:Izakaya Mondays
DESCRIPTION:ANI is now open Monday nights with an all new rotating Izakaya Menu by Chef Clayton Weber! The Izakaya menu is designed to be small plates of Japanese pub fare. Guests will receive a welcoming sample of our house sake: Ichi No Tori and half priced glass pours of sake and wine all night.
X-ALT-DESC;FMTTYPE=text/html:ANI is now open Monday nights with an all new rotating Izakaya Menu by Chef Clayton Weber! The Izakaya menu is designed to be small plates of Japanese pub fare. Guests will receive a welcoming sample of our house sake: Ichi No Tori and half priced glass pours of sake and wine all night.&nbsp\;
LOCATION:3056 N Lincoln Ave
UID:e.1819.2042
SEQUENCE:3
DTSTAMP:20260422T223442Z
URL:https://members.lakeviewroscoevillage.org/events/details/izakaya-mondays-11-30-2015-2042
END:VEVENT

END:VCALENDAR
