BEGIN:VCALENDAR
VERSION:2.0
PRODID:-//ChamberMaster//Event Calendar 2.0//EN
METHOD:PUBLISH
X-PUBLISHED-TTL:P3D
REFRESH-INTERVAL:P3D
CALSCALE:GREGORIAN
BEGIN:VEVENT
DTSTART:20140626T230000Z
DTEND:20140627T030000Z
X-MICROSOFT-CDO-ALLDAYEVENT:FALSE
SUMMARY:Jammin at the Zoo
DESCRIPTION:Jammin' at the Zoo featuring Kristian Bush of Sugarland and Jana Kramer\n\nJune 26\, 2014 gates open at 6:00 p.m.\n\nLincoln Park Zoo's beloved summer concert series kicks off on the zoo's Main Mall with Kristian Bush of Sugarland with Jana Kramer on Thursday\, June 26!\n\n\n\nEnjoy your favorite musicians rock out in a wildly new concert venue! Jammin' at the Zoo is an opportunity to get outdoors and groove to an assortment of talented musicians among Chicago's favorite animals. Attendees can enjoy summery snacks at the zoo's Park Place Caf \; beer and wine will also be available for purchase for those 21 years and older.\n\n\n\nTickets are on sale now and more info can be found here: http://www.lpzoo.org/events/calendar/jammin-zoo
X-ALT-DESC;FMTTYPE=text/html:<span style="color:#000000\;"><strong>Jammin&rsquo\; at the Zoo featuring Kristian Bush of Sugarland and Jana Kramer</strong><br />\nJune 26\, 2014 gates open at 6:00 p.m.<br />\nLincoln Park Zoo&rsquo\;s beloved summer concert series kicks off on the zoo&rsquo\;s Main Mall with Kristian Bush of Sugarland with Jana Kramer on Thursday\, June 26!<br />\n<br />\nEnjoy your favorite musicians rock out in a wildly new concert venue! Jammin&rsquo\; at the Zoo is an opportunity to get outdoors and groove to an assortment of talented musicians among Chicago&rsquo\;s favorite animals. Attendees can enjoy summery snacks at the zoo&rsquo\;s Park Place Caf&eacute\;\; beer and wine will also be available for purchase for those 21 years and older.<br />\n<br />\nTickets are on sale now and more info can be found here: </span><span style="color:red\;"><a href="http://www.lpzoo.org/events/calendar/jammin-zoo">http://www.lpzoo.org/events/calendar/jammin-zoo</a> </span>
LOCATION:
UID:e.1819.291
SEQUENCE:3
DTSTAMP:20260424T095139Z
URL:https://members.lakeviewroscoevillage.org/events/details/jammin-at-the-zoo-06-26-2014-291
END:VEVENT

END:VCALENDAR
