BEGIN:VCALENDAR
VERSION:2.0
PRODID:-//ChamberMaster//Event Calendar 2.0//EN
METHOD:PUBLISH
X-PUBLISHED-TTL:P3D
REFRESH-INTERVAL:P3D
CALSCALE:GREGORIAN
BEGIN:VEVENT
DTSTART:20151112T003000Z
DTEND:20151112T030000Z
X-MICROSOFT-CDO-ALLDAYEVENT:FALSE
SUMMARY:Japanese Whisky Tasting and 4 Course Dinner
DESCRIPTION:JAPANESE WHISKY TASTING & 4 COURSE DINNER\n\nNOVEMBER 11 6:30PM | $85 (includes tax & grat)\n\nJoin us in sampling four family owned\, small batch whiskies paired with a four course dinner brought to you by Chef Shin Matsuda and Tenzing Wine & Spirits. The event will feature Iwai Tradition\, Nikka Pure Malt\, Akashi White Oak\, and Nikka Coffey\, as well as a welcome Specialty Cocktail. \n\nCall to reserve your seats today! Credit Card is required to hold reservation. Cancellation must be made no later than 3 days in advance or cancellation fee will be charged. Max 20 seats at this event.
X-ALT-DESC;FMTTYPE=text/html:<h3 style="text-align:center">JAPANESE WHISKY TASTING &amp\; 4 COURSE DINNER<br />\nNOVEMBER 11 6:30PM |&nbsp\;$85 (includes tax &amp\; grat)</h3>\n\n<p>Join us in sampling four family owned\, small batch whiskies paired with a four course dinner brought to you by Chef Shin Matsuda and Tenzing Wine &amp\; Spirits. The event will feature Iwai Tradition\, Nikka Pure Malt\, Akashi White Oak\, and Nikka Coffey\, as well as a welcome Specialty Cocktail.&nbsp\;</p>\n\n<p>Call to reserve your seats today! Credit Card is required to hold reservation. Cancellation must be made no later than 3 days in advance or cancellation fee will be charged. Max 20 seats at this event.</p>\n
LOCATION:3056 N Lincoln Ave
UID:e.1819.2238
SEQUENCE:3
DTSTAMP:20260422T223355Z
URL:https://members.lakeviewroscoevillage.org/events/details/japanese-whisky-tasting-and-4-course-dinner-11-11-2015-2238
END:VEVENT

END:VCALENDAR
