BEGIN:VCALENDAR
VERSION:2.0
PRODID:-//ChamberMaster//Event Calendar 2.0//EN
METHOD:PUBLISH
X-PUBLISHED-TTL:P3D
REFRESH-INTERVAL:P3D
CALSCALE:GREGORIAN
BEGIN:VEVENT
DTSTART:20160605T230000Z
DTEND:20160606T020000Z
X-MICROSOFT-CDO-ALLDAYEVENT:FALSE
SUMMARY:JAZZ FOR WOMEN-AN EVENING OF MUSIC AND FELLOWSHIP TO BENEFIT THE CHICAGO FOUNDATION FOR WOMEN
DESCRIPTION:Chicago jazz singer Elaine Dame will host a benefit jazz concert on Sunday\, June 5th from 6 to 9 p.m. at Southport and Irving\, 4000 N. Southport Avenue in Chicago. Sponsored in part by WDCB Jazz and Blues Radio\, there will be a $10 suggested donation at the door and raffles throughout the evening\, with continuous music from over 40 local jazz artists. SIP will donate 10% of the evening's proceeds to the foundation.\n\n\n\n"Jazz for Women   An Evening of Music and Fellowship" will benefit The Chicago Foundation for Women. Founded in 1984\, this philanthropic organization is dedicated to increasing resources and opportunities for women and girls in the greater Chicago area. Chicago jazz singer Elaine Dame has been named a "gem" in the city's vocal scene with a voice "like clarified honey." "I have a goal to host a musical benefit yearly and CFW is an organization that is doing great work for women and girls" says Dame. "This is my opportunity to give back and I hope the community will join with me."\n\n\n\nFor more information\, please call Elaine Dame at 773-296-0831 or Liz Rivera\, Individual Gifts Officer for CFW at (312) 577-2820
X-ALT-DESC;FMTTYPE=text/html:Chicago jazz singer Elaine Dame will host a benefit jazz&nbsp\;concert on Sunday\, June 5th from 6 to 9 p.m. at Southport and Irving\, 4000 N. Southport&nbsp\;Avenue in Chicago. Sponsored in part by WDCB Jazz and Blues Radio\, there will be a&nbsp\;$10 suggested donation at the door and raffles throughout the evening\, with continuous&nbsp\;music from over 40 local jazz artists. SIP will donate 10% of the evening&rsquo\;s proceeds to&nbsp\;the foundation.<br />\n<br />\n&ldquo\;Jazz for Women &ndash\; An Evening of Music and Fellowship&rdquo\; will benefit The Chicago&nbsp\;Foundation for Women. Founded in 1984\, this philanthropic organization is dedicated to&nbsp\;increasing resources and opportunities for women and girls in the greater Chicago area.&nbsp\;Chicago jazz singer Elaine Dame has been named a &quot\;gem&quot\; in the city&#39\;s vocal scene with&nbsp\;a voice &quot\;like clarified honey.&quot\; &ldquo\;I have a goal to host a musical benefit yearly and CFW is&nbsp\;an organization that is doing great work for women and girls&rdquo\; says Dame. &ldquo\;This is my&nbsp\;opportunity to give back and I hope the community will join with me.&rdquo\;<br />\n<br />\nFor more information\, please call Elaine Dame at 773-296-0831 or Liz Rivera\, Individual&nbsp\;Gifts Officer for CFW at (312) 577-2820
LOCATION:SIP (Southport & Irving) 4000 N Southport Ave.
UID:e.1819.2952
SEQUENCE:3
DTSTAMP:20260422T095928Z
URL:https://members.lakeviewroscoevillage.org/events/details/jazz-for-women-an-evening-of-music-and-fellowship-to-benefit-the-chicago-foundation-for-women-06-05-2016-2952
END:VEVENT

END:VCALENDAR
