BEGIN:VCALENDAR
VERSION:2.0
PRODID:-//ChamberMaster//Event Calendar 2.0//EN
METHOD:PUBLISH
X-PUBLISHED-TTL:P3D
REFRESH-INTERVAL:P3D
CALSCALE:GREGORIAN
BEGIN:VEVENT
DTSTART:20150121T140000Z
DTEND:20150121T150000Z
X-MICROSOFT-CDO-ALLDAYEVENT:FALSE
SUMMARY:Joint Breakfast with the SBAC
DESCRIPTION:Come join the Lakeview Chamber of Commerce and the SBAC at our networking breakfast at Mystic Celt in Chicago's Lakeview neighborhood!\n\nThese gatherings are a great place to relax and talk a little business. To RSVP or to join as a guest\, email lvitosh@lakeviewchamber.com
X-ALT-DESC;FMTTYPE=text/html:<p style="margin: 0px\; padding: 5px 0px\; border: none\; border-image-source: none\; border-image-slice: 100% 1 0\; border-image-repeat: stretch\; line-height: 17px\; bottom: auto\; box-sizing: content-box\; clear: none\; color: rgb(49\, 53\, 56)\; content: normal\; direction: inherit\; empty-cells: show\; float: none\; font-family: Arial\, Helvetica\, sans-serif\; font-size: 14px\; font-stretch: inherit\; left: auto\; max-height: none\; max-width: none\; opacity: 1\; outline: invert none medium\; outline-offset: 0px\; overflow: visible\; position: static\; resize: none\; right: auto\; table-layout: auto\; text-overflow: clip\; top: auto\; vertical-align: baseline\; visibility: inherit\; word-break: inherit\; word-wrap: inherit\; z-index: auto\; border-collapse: separate\; border-radius: 0px\; height: auto\; width: auto\; box-shadow: none\; background: none rgb(248\, 248\, 248)\;">Come join the Lakeview Chamber of Commerce and the&nbsp\;SBAC&nbsp\;at our networking breakfast at Mystic Celt in Chicago&#39\;s Lakeview neighborhood!</p>\n\n<p style="margin: 0px\; padding: 5px 0px\; border: none\; border-image-source: none\; border-image-slice: 100% 1 0\; border-image-repeat: stretch\; line-height: 17px\; bottom: auto\; box-sizing: content-box\; clear: none\; color: rgb(49\, 53\, 56)\; content: normal\; direction: inherit\; empty-cells: show\; float: none\; font-family: Arial\, Helvetica\, sans-serif\; font-size: 14px\; font-stretch: inherit\; left: auto\; max-height: none\; max-width: none\; opacity: 1\; outline: invert none medium\; outline-offset: 0px\; overflow: visible\; position: static\; resize: none\; right: auto\; table-layout: auto\; text-overflow: clip\; top: auto\; vertical-align: baseline\; visibility: inherit\; word-break: inherit\; word-wrap: inherit\; z-index: auto\; border-collapse: separate\; border-radius: 0px\; height: auto\; width: auto\; box-shadow: none\; background: none rgb(248\, 248\, 248)\;">These gatherings are a great place to relax and talk a little business. To RSVP or to join as a guest\, email <a href="mailto:lvitosh@lakeviewchamber.com?subject=Joint%20Breakfast%20with%20the%20SBAC">lvitosh@lakeviewchamber.com</a></p>\n
LOCATION:Mystic Celt 3443 N Southport Ave Chicago\, IL 60657
UID:e.1819.1355
SEQUENCE:3
DTSTAMP:20260423T171714Z
URL:https://members.lakeviewroscoevillage.org/events/details/joint-breakfast-with-the-sbac-01-21-2015-1355
END:VEVENT

END:VCALENDAR
