BEGIN:VCALENDAR
VERSION:2.0
PRODID:-//ChamberMaster//Event Calendar 2.0//EN
METHOD:PUBLISH
X-PUBLISHED-TTL:P3D
REFRESH-INTERVAL:P3D
CALSCALE:GREGORIAN
BEGIN:VEVENT
DTSTART:20140820T130000Z
DTEND:20140820T140000Z
X-MICROSOFT-CDO-ALLDAYEVENT:FALSE
SUMMARY:Joint Breakfast with the SBAC
DESCRIPTION:Please join us for a joint breakfast with the Small Business Advocacy Council and the  Lakeview Chamber of Commerce on May 21st at Wishbone.\n\n\n\nThis is a great opportunity to meet SBAC and Lakeview Chamber of Commerce members and guests\, make meaningful connections and touch on some of the important topics impacting the small business community while enjoying a great breakfast.\n\n \n\nhttp://www.smallbusinessadvocacycouncil.org/
X-ALT-DESC;FMTTYPE=text/html:<span style="font-family:tahoma\;"><span style="font-size:16px\;">Please join us for a joint breakfast with the Small Business Advocacy Council and the&nbsp\; </span><span style="font-size:12.0pt\;"><span style="font-size:16px\;">Lakeview Chamber of Commerce on May 21<sup>st</sup>&nbsp\;at Wishbone.</span><br />\n<br />\nThis is a great opportunity to meet SBAC and Lakeview Chamber of Commerce members and guests\, make meaningful connections and touch on some of the important topics impacting the small business community while enjoying a great breakfast.<br />\n&nbsp\;</span></span><br />\nhttp://www.smallbusinessadvocacycouncil.org/&#8203\;&nbsp\;
LOCATION:Wishbone - 3300 N Lincoln Ave\, Chicago\, IL 60657
UID:e.1819.313
SEQUENCE:3
DTSTAMP:20260424T025420Z
URL:https://members.lakeviewroscoevillage.org/events/details/joint-breakfast-with-the-sbac-08-20-2014-313
END:VEVENT

END:VCALENDAR
