BEGIN:VCALENDAR
VERSION:2.0
PRODID:-//ChamberMaster//Event Calendar 2.0//EN
METHOD:PUBLISH
X-PUBLISHED-TTL:P3D
REFRESH-INTERVAL:P3D
CALSCALE:GREGORIAN
BEGIN:VEVENT
DTSTART:20141119T140000Z
DTEND:20141119T150000Z
X-MICROSOFT-CDO-ALLDAYEVENT:FALSE
SUMMARY:Joint Breakfast with the SBAC
DESCRIPTION:Come join the Lakeview Chamber of Commerce and the SBAC at our networking breakfast at Mystic Celt in Chicago's Lakeview neighborhood!\n\nThese gatherings are a great place to relax and talk a little business. To RSVP or to join as a guest\, email Admin@sbacil.org.
X-ALT-DESC;FMTTYPE=text/html:<p style="margin: 0px\; padding: 5px 0px\; color: rgb(49\, 53\, 56)\; font-family: Arial\, Helvetica\, sans-serif\; line-height: 17px\; background-color: rgb(248\, 248\, 248)\;">Come join the Lakeview Chamber of Commerce and the SBAC at our networking breakfast at Mystic Celt in Chicago&#39\;s Lakeview neighborhood!</p>\n\n<p style="margin: 0px\; padding: 5px 0px\; color: rgb(49\, 53\, 56)\; font-family: Arial\, Helvetica\, sans-serif\; line-height: 17px\; background-color: rgb(248\, 248\, 248)\;">These gatherings are a great place to relax and talk a little business. To RSVP or to join as a guest\, email&nbsp\;<a href="mailto:Admin@sbacil.org" style="margin: 0px\; padding: 0px\; color: rgb(236\, 106\, 0)\; outline: none\;">Admin@sbacil.org</a>.</p>\n
LOCATION:Mystic Celt 3443 N Southport Ave Chicago\, IL 60657
UID:e.1819.513
SEQUENCE:3
DTSTAMP:20260423T205648Z
URL:https://members.lakeviewroscoevillage.org/events/details/joint-breakfast-with-the-sbac-11-19-2014-513
END:VEVENT

END:VCALENDAR
