BEGIN:VCALENDAR
VERSION:2.0
PRODID:-//ChamberMaster//Event Calendar 2.0//EN
METHOD:PUBLISH
X-PUBLISHED-TTL:P3D
REFRESH-INTERVAL:P3D
CALSCALE:GREGORIAN
BEGIN:VEVENT
DTSTART:20160714T223000Z
DTEND:20160715T003000Z
X-MICROSOFT-CDO-ALLDAYEVENT:FALSE
SUMMARY:Joint Chamber Business After Hours
DESCRIPTION:In lieu of our July Wired Wednesday we invite you to join us for our summer Joint Chamber Business After Hours with the Lincoln Park and Roscoe Village Chambers of Commerce at SoNo East apartments\, one of Lincoln Park's premier residential developments. Enjoy connecting with other chamber members while you take in the amazing skyline views and the summer breeze on their outdoor terrace. Complimentary appetizers and drinks are included.
X-ALT-DESC;FMTTYPE=text/html:In lieu of o<span style="font-family: arial\; font-size: 14px\; line-height: 20.3px\;">ur July Wired Wednesday we invite you to join us for our summer Joint Chamber Business After Hours with the </span><strong><u><a alt="http://www.lakeviewchamber.com/" href="http://r20.rs6.net/tn.jsp?f=001q0kLi4GTMpY7sCn2t8z_cEYe8nICPV8hdeA9wQdW0Xr1VsOB5JQyG6zziSLsRlzjk4sO72afHJuE_O0SoKjmcd0AfGbMyLTgFKt-jNj1j3ASyO2Ey139ZqgMWtR66P88MkOeB3DXM8aORpmSewXdBenbpV1UbmhGd9We5CaX-RrgjqcoIOCMhg==&amp\;c=wPTqXN8E482cd4AJ57WV_YH2VnHM436iqmSZCgrnV_igkEx3X07ESA==&amp\;ch=T1KOwEdtP_ufxChz1TN05RKOFR4a8QF3ZCSii52MCll73OqaMZiBKw==" linktype="1" shape="rect" style="color: inherit\; transition: 0.3s\; font-weight: 700\; font-family: arial\; font-size: 14px\; line-height: 20.3px\;" target="_blank" track="on">L</a>incoln Park</u></strong><span style="font-family: arial\; font-size: 14px\; line-height: 20.3px\;">&nbsp\;and&nbsp\;</span><a alt="https://www.rvcc.biz/" href="http://r20.rs6.net/tn.jsp?f=001q0kLi4GTMpY7sCn2t8z_cEYe8nICPV8hdeA9wQdW0Xr1VsOB5JQyG10ZIkJ-bc4OI0zBNnV77XBH7pEHoOua7VgTj85ibtfw1ULIrhzHh0GdvymH46OaGEgINB3dvUQ6SPkPi26vzk9GgnUL9ac3N6lWsrOGFFmXwyqM36kaDDw=&amp\;c=wPTqXN8E482cd4AJ57WV_YH2VnHM436iqmSZCgrnV_igkEx3X07ESA==&amp\;ch=T1KOwEdtP_ufxChz1TN05RKOFR4a8QF3ZCSii52MCll73OqaMZiBKw==" linktype="1" shape="rect" style="color: inherit\; transition: 0.3s\; font-weight: 700\; font-family: arial\; font-size: 14px\; line-height: 20.3px\;" target="_blank" track="on">Roscoe Village</a><span style="font-family: arial\; font-size: 14px\; line-height: 20.3px\;">&nbsp\;Chambers of Commerce at&nbsp\;</span><a href="http://sonoeast.com/" style="color: inherit\; transition: 0.3s\; font-weight: 700\; font-family: arial\; font-size: 14px\; line-height: 20.3px\;">SoNo East&nbsp\;</a><span style="font-family: arial\; font-size: 14px\; line-height: 20.3px\;">apartments\, one of Lincoln Park&#39\;s premier residential developments. Enjoy connecting with other chamber members while you take in the amazing skyline views and the summer breeze on their outdoor terrace. Complimentary appetizers and drinks are included.&nbsp\;</span>
LOCATION:SoNo East Apartments 840 W Blackhawk Chicago\, IL 60642
UID:e.1819.2960
SEQUENCE:3
DTSTAMP:20260422T080846Z
URL:https://members.lakeviewroscoevillage.org/events/details/joint-chamber-business-after-hours-07-14-2016-2960
END:VEVENT

END:VCALENDAR
