BEGIN:VCALENDAR
VERSION:2.0
PRODID:-//ChamberMaster//Event Calendar 2.0//EN
METHOD:PUBLISH
X-PUBLISHED-TTL:P3D
REFRESH-INTERVAL:P3D
CALSCALE:GREGORIAN
BEGIN:VEVENT
DTSTART:20140717T223000Z
DTEND:20140718T003000Z
X-MICROSOFT-CDO-ALLDAYEVENT:FALSE
SUMMARY:Joint Chamber Networking: Rooftop at SoNo East
DESCRIPTION:Roof Deck After Hours Event! \n\nThe Lincoln Park\, Lakeview and Roscoe Village Chambers of Commerce invite you to join us for a mid-summer networking event. \n\n\n\nEnjoy amazing city views\, luxe surroundings\, and fantastic bites and drinks\, as you kick back and watch the sun set from SoNo East's outdoor roof deck and indoor lounge. \n\n\n\nThis unique Business After Hours is the perfect setting to connect with business professionals from the north side of Chicago.
X-ALT-DESC;FMTTYPE=text/html:<span style="font-weight: 700\; border: none\; border-collapse: separate\; border-image-source: none\; border-image-slice: 100% 1 0\; border-image-repeat: stretch\; border-top-left-radius: 0px\; border-top-right-radius: 0px\; border-bottom-right-radius: 0px\; border-bottom-left-radius: 0px\; bottom: auto\; box-sizing: content-box\; clear: none\; color: rgb(68\, 68\, 68)\; content: normal\; direction: inherit\; empty-cells: show\; font-family: Arial\, Helvetica\, sans-serif\; font-size: 14px\; left: auto\; line-height: 18.200000762939453px\; margin: 0px\; max-height: none\; max-width: none\; opacity: 1\; outline: invert none medium\; outline-offset: 0px\; overflow: visible\; padding: 0px\; position: static\; resize: none\; right: auto\; table-layout: auto\; text-justify: inherit\; text-overflow: clip\; top: auto\; vertical-align: baseline\; visibility: inherit\; word-break: inherit\; word-wrap: inherit\; z-index: auto\; height: auto\; width: auto\; box-shadow: none\; background-image: none\; background-attachment: initial\; background-size: initial\; background-origin: initial\; background-clip: initial\; background-position: initial\; background-repeat: initial\;">Roof Deck After Hours Event!&nbsp\;</span><br style="border: none\; border-collapse: separate\; border-image-source: none\; border-image-slice: 100% 1 0\; border-image-repeat: stretch\; border-top-left-radius: 0px\; border-top-right-radius: 0px\; border-bottom-right-radius: 0px\; border-bottom-left-radius: 0px\; bottom: auto\; box-sizing: content-box\; clear: none\; color: rgb(68\, 68\, 68)\; content: normal\; direction: inherit\; display: inline\; empty-cells: show\; float: none\; font-family: Arial\, Helvetica\, sans-serif\; font-size: 14px\; left: auto\; line-height: 18.200000762939453px\; margin: 0px\; max-height: none\; max-width: none\; opacity: 1\; outline: invert none medium\; outline-offset: 0px\; overflow: visible\; padding: 0px\; position: static\; resize: none\; right: auto\; table-layout: auto\; text-justify: inherit\; text-overflow: clip\; top: auto\; vertical-align: baseline\; visibility: inherit\; word-break: inherit\; word-wrap: inherit\; z-index: auto\; height: auto\; width: auto\; background-image: none\; background-attachment: initial\; background-size: initial\; background-origin: initial\; background-clip: initial\; background-position: initial\; background-repeat: initial\;" />\n<span style="color: rgb(68\, 68\, 68)\; font-family: Arial\, Helvetica\, sans-serif\; font-size: 14px\; line-height: 18.200000762939453px\;">The Lincoln Park\,&nbsp\;Lakeview and Roscoe Village Chambers of Commerce invite you to join us for a&nbsp\;mid-summer networking event.&nbsp\;<br />\n<br />\nEnjoy amazing city views\,&nbsp\;luxe surroundings\, and fantastic bites and drinks\, as you kick back and watch the sun set from&nbsp\;SoNo East&#39\;s outdoor roof deck and indoor lounge.&nbsp\;<br />\n<br />\nThis unique Business After Hours&nbsp\;is the perfect setting to connect with&nbsp\;business professionals from the north side of&nbsp\;Chicago.</span><br />\n<br />\n<br />\n&nbsp\;
LOCATION:SoNo East Residences 840 W. Blackhawk Chicago\, IL 60614 Street Parking
UID:e.1819.292
SEQUENCE:3
DTSTAMP:20260424T073803Z
URL:https://members.lakeviewroscoevillage.org/events/details/joint-chamber-networking-rooftop-at-sono-east-07-17-2014-292
END:VEVENT

END:VCALENDAR
