BEGIN:VCALENDAR
VERSION:2.0
PRODID:-//ChamberMaster//Event Calendar 2.0//EN
METHOD:PUBLISH
X-PUBLISHED-TTL:P3D
REFRESH-INTERVAL:P3D
CALSCALE:GREGORIAN
BEGIN:VEVENT
DTSTART:20150723T223000Z
DTEND:20150724T003000Z
X-MICROSOFT-CDO-ALLDAYEVENT:FALSE
SUMMARY:Joint Networking Event at SoNo
DESCRIPTION:The Lakeview\, Lincoln Park and Roscoe Village Chambers of Commerce invite you to join us for a mid-summer networking event. Enjoy amazing city views and fantastic bites and drinks\, as you kick back and watch the sunset from SoNo East's outdoor roof deck and indoor lounge. This unique Business after Hours is the perfect setting to connect with professionals from all across the north side of Chicago.
X-ALT-DESC;FMTTYPE=text/html:<span style="bottom: auto\; box-sizing: content-box\; clear: none\; color: rgb(68\, 68\, 68)\; content: normal\; direction: inherit\; empty-cells: show\; font-family: Arial\, Helvetica\, sans-serif\; font-size: 14px\; font-stretch: inherit\; left: auto\; line-height: 20.7999992370605px\; margin: 0px\; max-height: none\; max-width: none\; min-height: initial\; min-width: initial\; opacity: 1\; outline: invert none medium\; outline-offset: 0px\; overflow: visible\; padding: 0px\; position: static\; resize: none\; right: auto\; table-layout: auto\; text-overflow: clip\; top: auto\; vertical-align: baseline\; visibility: inherit\; word-break: inherit\; word-wrap: inherit\; z-index: auto\; border: none\; border-collapse: separate\; border-image-source: none\; border-image-slice: 100% 1 0\; border-image-repeat: stretch\; border-radius: 0px\; height: auto\; width: auto\; box-shadow: none\; background-image: none\; background-attachment: initial\; background-size: initial\; background-origin: initial\; background-clip: initial\; background-position: initial\; background-repeat: initial\;">The Lakeview\, Lincoln Park and Roscoe Village Chambers of Commerce invite you to join us for a&nbsp\;mid-summer networking event.&nbsp\;Enjoy amazing city views</span><span style="bottom: auto\; box-sizing: content-box\; clear: none\; color: rgb(68\, 68\, 68)\; content: normal\; direction: inherit\; empty-cells: show\; font-family: Arial\, Helvetica\, sans-serif\; font-size: 14px\; font-stretch: inherit\; left: auto\; line-height: 20.7999992370605px\; margin: 0px\; max-height: none\; max-width: none\; min-height: initial\; min-width: initial\; opacity: 1\; outline: invert none medium\; outline-offset: 0px\; overflow: visible\; padding: 0px\; position: static\; resize: none\; right: auto\; table-layout: auto\; text-overflow: clip\; top: auto\; vertical-align: baseline\; visibility: inherit\; word-break: inherit\; word-wrap: inherit\; z-index: auto\; border: none\; border-collapse: separate\; border-image-source: none\; border-image-slice: 100% 1 0\; border-image-repeat: stretch\; border-radius: 0px\; height: auto\; width: auto\; box-shadow: none\; background-image: none\; background-attachment: initial\; background-size: initial\; background-origin: initial\; background-clip: initial\; background-position: initial\; background-repeat: initial\;">&nbsp\;and fantastic bites and drinks\, as you kick back and watch the sunset from&nbsp\;</span><span style="color: rgb(68\, 68\, 68)\; font-family: Arial\, Helvetica\, sans-serif\; font-size: 14px\; line-height: 18.2000007629395px\;">SoNo</span><span style="bottom: auto\; box-sizing: content-box\; clear: none\; color: rgb(68\, 68\, 68)\; content: normal\; direction: inherit\; empty-cells: show\; font-family: Arial\, Helvetica\, sans-serif\; font-size: 14px\; font-stretch: inherit\; left: auto\; line-height: 20.7999992370605px\; margin: 0px\; max-height: none\; max-width: none\; min-height: initial\; min-width: initial\; opacity: 1\; outline: invert none medium\; outline-offset: 0px\; overflow: visible\; padding: 0px\; position: static\; resize: none\; right: auto\; table-layout: auto\; text-overflow: clip\; top: auto\; vertical-align: baseline\; visibility: inherit\; word-break: inherit\; word-wrap: inherit\; z-index: auto\; border: none\; border-collapse: separate\; border-image-source: none\; border-image-slice: 100% 1 0\; border-image-repeat: stretch\; border-radius: 0px\; height: auto\; width: auto\; box-shadow: none\; background-image: none\; background-attachment: initial\; background-size: initial\; background-origin: initial\; background-clip: initial\; background-position: initial\; background-repeat: initial\;">&nbsp\;East&#39\;s outdoor roof deck and indoor lounge.&nbsp\;This unique Business after Hours&nbsp\;is the perfect setting to connect with&nbsp\;professionals from all across the north side of&nbsp\;Chicago.</span>
LOCATION:SoNo East Luxury Residences 840 W. Blackhawk
UID:e.1819.1778
SEQUENCE:3
DTSTAMP:20260423T060009Z
URL:https://members.lakeviewroscoevillage.org/events/details/joint-networking-event-at-sono-07-23-2015-1778
END:VEVENT

END:VCALENDAR
