BEGIN:VCALENDAR
VERSION:2.0
PRODID:-//ChamberMaster//Event Calendar 2.0//EN
METHOD:PUBLISH
X-PUBLISHED-TTL:P3D
REFRESH-INTERVAL:P3D
CALSCALE:GREGORIAN
BEGIN:VEVENT
DTSTART:20131207T190000Z
DTEND:20131207T220000Z
X-MICROSOFT-CDO-ALLDAYEVENT:FALSE
SUMMARY:Jolly Palooza on Lincoln
DESCRIPTION:It's time for our Annual Jolly Palooza on Lincoln Avenue!\n\n	\n\n	Join us for Santa & Mrs. Claus\, Vintage Carolers\, special refreshments and offers at merchant businesses\, and plenty of Holiday Cheer!\n\n	\n\n	 \n\n	\n		\n	\n	\n		\n			\n				Aquarium Salon\, 3508 N. Lincoln Ave. $20 for Express Style. $20 off your next appointment booked that day.\n		\n		\n			\n				Ashland Addison Florist\, 3118 N. Lincoln Ave. 50% off cash & carry unwrapped bouquets (cash only).\n		\n		\n			\n				Bad Wolf Coffee\, 3422 N. Lincoln Ave. Spend $10 on beverages or house-made pastries and get a free coffee.\n		\n		\n			\n				Ballin Pharmacy\, 3330 N. Lincoln Ave. Free kids vitamins and a Holiday treat.\n			\n				 \n			\n				 \n		\n		\n			\n				Bazar\, 3350 N. Paulina St. Receive $10 gift card with any purchase of $50 or more to use at a later date.\n		\n		\n			\n				Bottle & Bottega\, 2900 N. Lincoln Ave. Stop by to learn about hosting wine and painting parties.\n		\n		\n			\n				Building Blocks\, 3306 N. Lincoln Ave. Free Artivity coloring book with any purchase (one per family).\n		\n		\n			\n				Chicago Art & Design Center\, 3054 N. Greenview Ave. Kids painting and xmas crafts\, hot cocoa.\n		\n		\n			\n				Ganesha Yoga and Adventures in Fitness\, 3113 N. Lincoln Ave. Music\, classes and treats.\n			\n				 \n		\n		\n			\n				Heritage Bicycles\, 2959 N. Lincoln Ave. Roasting chestnuts on an open fire. \n			\n				 \n			\n				 \n		\n		\n			\n				Jazz'e Junque\, 3419 N. Lincoln Ave. Free cookies and a visit from Cookie Monster.\n			\n				 \n			\n				 \n		\n		\n			\n				Lapiel Laser Center\, 3454 N. Lincoln Ave. 10% off all skin care products and gift cards.\n			\n				 \n		\n		\n			\n				Lyons Family Eye Care\, 3250 N. Lincoln Ave. 20% off sunglasses.\n			\n				 \n			\n				 \n			\n				 \n		\n		\n			\n				Modlife\, 3061 N. Lincoln Ave. 20% off inventory.\n			\n				 \n			\n				 \n			\n				 \n			\n				 \n			\n				 \n		\n		\n			\n				Northside Chiropractic\, 3250 N. Lincoln Ave. Complimentary chair massage.\n			\n				 \n			\n				 \n		\n		\n			\n				On The Route Bicycles\, 3144 N. Lincoln Ave. Free espresso and 25% of all bike stuff.\n			\n				 \n		\n		\n			\n				Painless Waxing Boutique\, 3146 N. Lincoln Ave. Hot tea\,hot chocolate\, and $10 gift certificate with $40 purchase.\n		\n		\n			\n				Pressbox\, 2936 N. Lincoln Ave. Serving hot drinks.\n			\n				 \n			\n				 \n			\n				 \n			\n				 \n			\n				 \n		\n		\n			\n				ProActive Chiropractic\, 3430 N. Lincoln Ave. Complimentary hot cocoa and paper snowflake making. \n		\n		\n			\n				Sam & Willy's\, 3405 N. Paulina St. Hot apple cider and cookies\, discounts on winter dog gear.\n			\n				 \n		\n		\n			\n				Smiling Bright\, 3168 N. Lincoln Ave. $49 for 30-minute whitening.\n			\n				 \n			\n				 \n			\n				 \n		\n		\n			\n				Universal Sole\, 3052 N. Lincoln Ave. Hot chocolate\, candy\, chocolate pretzels and cookies.\n			\n				 \n		\n		\n			\n				Waterhouse Tavern & Grill\, 3407 N. Paulina St. Holiday-themed cocktails and martinis.\n			\n				 \n		\n		\n			\n				Waxman Candles\, 3044 N. Lincoln Ave. Open house event.\n			\n				 \n			\n				 \n			\n				 \n			\n				 \n		\n		\n			\n				Whole Foods Market\, 3300 N. Ashland Ave. The store will be filled with seasonal samples to make any occasion jolly.\n		\n		\n			\n				Wishbone Restaurant North\, 3300 N. Lincoln Ave. Brownies and hot chocolate.\n			\n				 \n			\n				 \n		\n		\n			\n				Wrightwood Furniture\, 3036 N. Lincoln Ave. Coffee\, cookies and more.
X-ALT-DESC;FMTTYPE=text/html:<p>\n	It&#39\;s time for our Annual&nbsp\;Jolly Palooza on Lincoln Avenue!<br />\n	<br />\n	Join us for Santa &amp\; Mrs. Claus\, Vintage Carolers\, special refreshments and offers at merchant businesses\, and plenty of Holiday Cheer!<br />\n	<br />\n	&nbsp\;</p>\n<table border="0" cellpadding="0" cellspacing="0" style="width: 640px\; border-collapse: collapse\;" width="640">\n	<colgroup>\n		<col span="10" style="width: 64px\;" />\n	</colgroup>\n	<tbody>\n		<tr height="20" style="height: 20px\;">\n			<td colspan="10" height="20" style="border: 0px black\; width: 640px\; height: 20px\;">\n				<span style="font-size: 12px\;"><span style="font-family: tahoma\;"><strong>Aquarium Salon</strong>\, 3508 N. Lincoln Ave. $20 for Express Style. $20 off your next appointment booked that day.</span></span></td>\n		</tr>\n		<tr height="20" style="height: 20px\;">\n			<td colspan="10" height="20" style="border: 0px black\; height: 20px\;">\n				<span style="font-size: 12px\;"><span style="font-family: tahoma\;"><strong>Ashland Addison Florist</strong>\, 3118 N. Lincoln Ave. 50% off cash&nbsp\;&amp\; carry unwrapped bouquets (cash only).</span></span></td>\n		</tr>\n		<tr height="20" style="height: 20px\;">\n			<td colspan="10" height="20" style="border: 0px black\; height: 20px\;">\n				<span style="font-size: 12px\;"><span style="font-family: tahoma\;"><strong>Bad Wolf Coffee</strong>\, 3422 N. Lincoln Ave. Spend $10 on beverages or house-made pastries and get a free coffee.</span></span></td>\n		</tr>\n		<tr height="20" style="height: 20px\;">\n			<td colspan="8" height="20" style="border: 0px black\; height: 20px\;">\n				<span style="font-size: 12px\;"><span style="font-family: tahoma\;"><strong>Ballin Pharmacy</strong>\, 3330 N. Lincoln Ave. Free kids vitamins and a Holiday treat.</span></span></td>\n			<td style="border: 0px black\;">\n				&nbsp\;</td>\n			<td style="border: 0px black\;">\n				&nbsp\;</td>\n		</tr>\n		<tr height="20" style="height: 20px\;">\n			<td colspan="10" height="20" style="border: 0px black\; height: 20px\;">\n				<span style="font-size: 12px\;"><span style="font-family: tahoma\;"><strong>Bazar</strong>\, 3350 N. Paulina St. Receive $10 gift card with any purchase of $50 or more to use at a later date.</span></span></td>\n		</tr>\n		<tr height="20" style="height: 20px\;">\n			<td colspan="10" height="20" style="border: 0px black\; height: 20px\;">\n				<span style="font-size: 12px\;"><span style="font-family: tahoma\;"><strong>Bottle &amp\; Bottega</strong>\, 2900 N. Lincoln Ave. Stop by to learn about hosting wine and painting parties.</span></span></td>\n		</tr>\n		<tr height="20" style="height: 20px\;">\n			<td colspan="10" height="20" style="border: 0px black\; height: 20px\;">\n				<span style="font-size: 12px\;"><span style="font-family: tahoma\;"><strong>Building Blocks</strong>\, 3306 N. Lincoln Ave. Free Artivity coloring book with any purchase (one per family).</span></span></td>\n		</tr>\n		<tr height="20" style="height: 20px\;">\n			<td colspan="10" height="20" style="border: 0px black\; height: 20px\;">\n				<span style="font-size: 12px\;"><span style="font-family: tahoma\;"><strong>Chicago Art &amp\; Design Center</strong>\, 3054 N. Greenview Ave. Kids painting and xmas crafts\, hot cocoa.</span></span></td>\n		</tr>\n		<tr height="20" style="height: 20px\;">\n			<td colspan="9" height="20" style="border: 0px black\; height: 20px\;">\n				<span style="font-size: 12px\;"><span style="font-family: tahoma\;"><strong>Ganesha Yoga and Adventures in Fitness</strong>\, 3113 N. Lincoln Ave. Music\, classes and treats.</span></span></td>\n			<td style="border: 0px black\;">\n				&nbsp\;</td>\n		</tr>\n		<tr height="20" style="height: 20px\;">\n			<td colspan="8" height="20" style="border: 0px black\; height: 20px\;">\n				<span style="font-size: 12px\;"><span style="font-family: tahoma\;"><strong>Heritage Bicycles</strong>\, 2959 N. Lincoln Ave. Roasting chestnuts on an open fire.&nbsp\;</span></span></td>\n			<td style="border: 0px black\;">\n				&nbsp\;</td>\n			<td style="border: 0px black\;">\n				&nbsp\;</td>\n		</tr>\n		<tr height="20" style="height: 20px\;">\n			<td colspan="8" height="20" style="border: 0px black\; height: 20px\;">\n				<span style="font-size: 12px\;"><span style="font-family: tahoma\;"><strong>Jazz&#39\;e Junque</strong>\, 3419 N. Lincoln Ave. Free cookies and a visit from Cookie Monster.</span></span></td>\n			<td style="border: 0px black\;">\n				&nbsp\;</td>\n			<td style="border: 0px black\;">\n				&nbsp\;</td>\n		</tr>\n		<tr height="20" style="height: 20px\;">\n			<td colspan="9" height="20" style="border: 0px black\; height: 20px\;">\n				<span style="font-size: 12px\;"><span style="font-family: tahoma\;"><strong>Lapiel Laser Center</strong>\, 3454 N. Lincoln Ave. 10% off all skin care products and gift cards.</span></span></td>\n			<td style="border: 0px black\;">\n				&nbsp\;</td>\n		</tr>\n		<tr height="20" style="height: 20px\;">\n			<td colspan="7" height="20" style="border: 0px black\; height: 20px\;">\n				<span style="font-size: 12px\;"><span style="font-family: tahoma\;"><strong>Lyons Family Eye Care</strong>\, 3250 N. Lincoln Ave. 20% off sunglasses.</span></span></td>\n			<td style="border: 0px black\;">\n				&nbsp\;</td>\n			<td style="border: 0px black\;">\n				&nbsp\;</td>\n			<td style="border: 0px black\;">\n				&nbsp\;</td>\n		</tr>\n		<tr height="20" style="height: 20px\;">\n			<td colspan="5" height="20" style="border: 0px black\; height: 20px\;">\n				<span style="font-size: 12px\;"><span style="font-family: tahoma\;"><strong>Modlife</strong>\, 3061 N. Lincoln Ave. 20% off inventory.</span></span></td>\n			<td style="border: 0px black\;">\n				&nbsp\;</td>\n			<td style="border: 0px black\;">\n				&nbsp\;</td>\n			<td style="border: 0px black\;">\n				&nbsp\;</td>\n			<td style="border: 0px black\;">\n				&nbsp\;</td>\n			<td style="border: 0px black\;">\n				&nbsp\;</td>\n		</tr>\n		<tr height="20" style="height: 20px\;">\n			<td colspan="8" height="20" style="border: 0px black\; height: 20px\;">\n				<span style="font-size: 12px\;"><span style="font-family: tahoma\;"><strong>Northside Chiropractic</strong>\, 3250 N. Lincoln Ave. Complimentary chair massage.</span></span></td>\n			<td style="border: 0px black\;">\n				&nbsp\;</td>\n			<td style="border: 0px black\;">\n				&nbsp\;</td>\n		</tr>\n		<tr height="20" style="height: 20px\;">\n			<td colspan="9" height="20" style="border: 0px black\; height: 20px\;">\n				<span style="font-size: 12px\;"><span style="font-family: tahoma\;"><strong>On The Route Bicycles</strong>\, 3144 N. Lincoln Ave. Free espresso and 25% of all bike stuff.</span></span></td>\n			<td style="border: 0px black\;">\n				&nbsp\;</td>\n		</tr>\n		<tr height="20" style="height: 20px\;">\n			<td colspan="10" height="20" style="border: 0px black\; height: 20px\;">\n				<span style="font-size: 12px\;"><span style="font-family: tahoma\;"><strong>Painless Waxing Boutique</strong>\, 3146 N. Lincoln Ave. Hot tea\,hot chocolate\, and $10 gift certificate with $40 purchase.</span></span></td>\n		</tr>\n		<tr height="20" style="height: 20px\;">\n			<td colspan="5" height="20" style="border: 0px black\; height: 20px\;">\n				<span style="font-size: 12px\;"><span style="font-family: tahoma\;"><strong>Pressbox</strong>\, 2936 N. Lincoln Ave. Serving hot drinks.</span></span></td>\n			<td style="border: 0px black\;">\n				&nbsp\;</td>\n			<td style="border: 0px black\;">\n				&nbsp\;</td>\n			<td style="border: 0px black\;">\n				&nbsp\;</td>\n			<td style="border: 0px black\;">\n				&nbsp\;</td>\n			<td style="border: 0px black\;">\n				&nbsp\;</td>\n		</tr>\n		<tr height="20" style="height: 20px\;">\n			<td colspan="10" height="20" style="border: 0px black\; height: 20px\;">\n				<span style="font-size: 12px\;"><span style="font-family: tahoma\;"><strong>ProActive Chiropractic</strong>\, 3430 N. Lincoln Ave. Complimentary hot cocoa and paper snowflake making.&nbsp\;</span></span></td>\n		</tr>\n		<tr height="20" style="height: 20px\;">\n			<td colspan="9" height="20" style="border: 0px black\; height: 20px\;">\n				<span style="font-size: 12px\;"><span style="font-family: tahoma\;"><strong>Sam &amp\; Willy&#39\;s</strong>\, 3405 N. Paulina St. Hot apple cider and cookies\, discounts on winter dog gear.</span></span></td>\n			<td style="border: 0px black\;">\n				&nbsp\;</td>\n		</tr>\n		<tr height="20" style="height: 20px\;">\n			<td colspan="7" height="20" style="border: 0px black\; height: 20px\;">\n				<span style="font-size: 12px\;"><span style="font-family: tahoma\;"><strong>Smiling Bright</strong>\, 3168 N. Lincoln Ave. $49 for 30-minute whitening.</span></span></td>\n			<td style="border: 0px black\;">\n				&nbsp\;</td>\n			<td style="border: 0px black\;">\n				&nbsp\;</td>\n			<td style="border: 0px black\;">\n				&nbsp\;</td>\n		</tr>\n		<tr height="20" style="height: 20px\;">\n			<td colspan="9" height="20" style="border: 0px black\; height: 20px\;">\n				<span style="font-size: 12px\;"><span style="font-family: tahoma\;"><strong>Universal Sole</strong>\, 3052 N. Lincoln Ave. Hot chocolate\, candy\, chocolate pretzels and cookies.</span></span></td>\n			<td style="border: 0px black\;">\n				&nbsp\;</td>\n		</tr>\n		<tr height="20" style="height: 20px\;">\n			<td colspan="9" height="20" style="border: 0px black\; height: 20px\;">\n				<span style="font-size: 12px\;"><span style="font-family: tahoma\;"><strong>Waterhouse Tavern &amp\; Grill</strong>\, 3407 N. Paulina St. Holiday-themed cocktails and martinis.</span></span></td>\n			<td style="border: 0px black\;">\n				&nbsp\;</td>\n		</tr>\n		<tr height="20" style="height: 20px\;">\n			<td colspan="6" height="20" style="border: 0px black\; height: 20px\;">\n				<span style="font-size: 12px\;"><span style="font-family: tahoma\;"><strong>Waxman Candles</strong>\, 3044 N. Lincoln Ave. Open house event.</span></span></td>\n			<td style="border: 0px black\;">\n				&nbsp\;</td>\n			<td style="border: 0px black\;">\n				&nbsp\;</td>\n			<td style="border: 0px black\;">\n				&nbsp\;</td>\n			<td style="border: 0px black\;">\n				&nbsp\;</td>\n		</tr>\n		<tr height="20" style="height: 20px\;">\n			<td colspan="10" height="20" style="border: 0px black\; height: 20px\;">\n				<span style="font-size: 12px\;"><span style="font-family: tahoma\;"><strong>Whole Foods Market</strong>\, 3300 N. Ashland Ave. The store will be filled with seasonal samples to make any occasion jolly.</span></span></td>\n		</tr>\n		<tr height="20" style="height: 20px\;">\n			<td colspan="8" height="20" style="border: 0px black\; height: 20px\;">\n				<span style="font-size: 12px\;"><span style="font-family: tahoma\;"><strong>Wishbone Restaurant North</strong>\, 3300 N. Lincoln Ave. Brownies and hot chocolate.</span></span></td>\n			<td style="border: 0px black\;">\n				&nbsp\;</td>\n			<td style="border: 0px black\;">\n				&nbsp\;</td>\n		</tr>\n		<tr height="20" style="height: 20px\;">\n			<td colspan="7" height="20" style="border: 0px black\; height: 20px\;">\n				<span style="font-size: 12px\;"><span style="font-family: tahoma\;"><strong>Wrightwood Furniture</strong>\, 3036 N. Lincoln Ave. Coffee\, cookies and more.</span></span></td>\n			<td style="border: 0px black\;">\n				&nbsp\;</td>\n			<td style="border: 0px black\;">\n				&nbsp\;</td>\n			<td style="border: 0px black\;">\n				&nbsp\;</td>\n		</tr>\n	</tbody>\n</table>\n<p>\n	&nbsp\;</p>\n<p>\n	<br />\n	&nbsp\;</p>\n
LOCATION:Lincoln Avenue\, Diversey to Addison
UID:e.1819.109
SEQUENCE:3
DTSTAMP:20260424T203655Z
URL:https://members.lakeviewroscoevillage.org/events/details/jolly-palooza-on-lincoln-12-07-2013-109
END:VEVENT

END:VCALENDAR
