BEGIN:VCALENDAR
VERSION:2.0
PRODID:-//ChamberMaster//Event Calendar 2.0//EN
METHOD:PUBLISH
X-PUBLISHED-TTL:P3D
REFRESH-INTERVAL:P3D
CALSCALE:GREGORIAN
BEGIN:VEVENT
DTSTART:20151205T190000Z
DTEND:20151205T220000Z
X-MICROSOFT-CDO-ALLDAYEVENT:FALSE
SUMMARY:Jollypalooza
DESCRIPTION:The 4th annual Jollypalooza kicks off the holiday season in the neighborhood. The event features Santa and Mrs. Claus strolling the street and visiting shops along with festive entertainment and holiday specials at participating businesses.\n\n\n\nLearn More
X-ALT-DESC;FMTTYPE=text/html:The 4th annual Jollypalooza&nbsp\;kicks off the holiday season in the neighborhood. The event features Santa and Mrs. Claus strolling the street and visiting shops along with festive entertainment and holiday specials at participating businesses.<br />\n<br />\n<a href="http://www.lakeviewchamber.com/events/holiday-events/jollypalooza.aspx">Learn More</a>
LOCATION:Lincoln Avenue from Diversey to Addison
UID:e.1819.2252
SEQUENCE:3
DTSTAMP:20260422T203535Z
URL:https://members.lakeviewroscoevillage.org/events/details/jollypalooza-12-05-2015-2252
END:VEVENT

END:VCALENDAR
