BEGIN:VCALENDAR
VERSION:2.0
PRODID:-//ChamberMaster//Event Calendar 2.0//EN
METHOD:PUBLISH
X-PUBLISHED-TTL:P3D
REFRESH-INTERVAL:P3D
CALSCALE:GREGORIAN
BEGIN:VEVENT
DTSTART:20141206T190000Z
DTEND:20141206T220000Z
X-MICROSOFT-CDO-ALLDAYEVENT:FALSE
SUMMARY:JollyPaLooza
DESCRIPTION:It's time for our Annual JollyPaLooza on Lincoln Avenue!\n\n\n\nJoin us for Santa & Mrs. Claus\, Vintage Carolers\, special refreshments and offers at merchant businesses\, and plenty of Holiday Cheer!
X-ALT-DESC;FMTTYPE=text/html:<span style="line-height: 20.7999992370605px\;">It&#39\;s time for our Annual&nbsp\;</span><span style="line-height: 20.7999992370605px\;">Jolly</span>PaLooza<span style="line-height: 20.7999992370605px\;">&nbsp\;on Lincoln Avenue!</span><br style="line-height: 20.7999992370605px\;" />\n<br style="line-height: 20.7999992370605px\;" />\n<span style="line-height: 20.7999992370605px\;">Join us for Santa &amp\; Mrs. Claus\, Vintage Carolers\, special refreshments and offers at merchant businesses\, and plenty of Holiday Cheer!</span><br style="line-height: 20.7999992370605px\;" />\n&nbsp\;
LOCATION:Lincoln Avenue\, Diversey to Addison
UID:e.1819.515
SEQUENCE:3
DTSTAMP:20260423T185828Z
URL:https://members.lakeviewroscoevillage.org/events/details/jollypalooza-12-06-2014-515
END:VEVENT

END:VCALENDAR
