BEGIN:VCALENDAR
VERSION:2.0
PRODID:-//ChamberMaster//Event Calendar 2.0//EN
METHOD:PUBLISH
X-PUBLISHED-TTL:P3D
REFRESH-INTERVAL:P3D
CALSCALE:GREGORIAN
BEGIN:VEVENT
DTSTART:20140906T210000Z
DTEND:20140907T010000Z
X-MICROSOFT-CDO-ALLDAYEVENT:FALSE
SUMMARY:JP Burkes Patio & Tap 1st Anniversary BBQ
DESCRIPTION:As a Thank You to all our customers\, we will be having a Free Pig Roast with all the Fixins starting at 4pm with the Pig Carve! Lake Effect will be on hand for a special Anniversary Beer! Live Music from Andrew Frakker 5-8pm
X-ALT-DESC;FMTTYPE=text/html:As a Thank You to all our customers\, we will be having a Free Pig Roast with all the Fixins starting at 4pm with the Pig Carve! Lake Effect will be on hand for a special Anniversary Beer! Live Music from Andrew Frakker 5-8pm
LOCATION:2913 N Lincoln
UID:e.1819.361
SEQUENCE:3
DTSTAMP:20260424T002815Z
URL:https://members.lakeviewroscoevillage.org/events/details/jp-burkes-patio-tap-1st-anniversary-bbq-09-06-2014-361
END:VEVENT

END:VCALENDAR
