BEGIN:VCALENDAR
VERSION:2.0
PRODID:-//ChamberMaster//Event Calendar 2.0//EN
METHOD:PUBLISH
X-PUBLISHED-TTL:P3D
REFRESH-INTERVAL:P3D
CALSCALE:GREGORIAN
BEGIN:VEVENT
DTSTART:20151121T000000Z
DTEND:20151121T030000Z
X-MICROSOFT-CDO-ALLDAYEVENT:FALSE
SUMMARY:Kid's Nite Out
DESCRIPTION:Everyone deserves a night out once in a while. Instead of leaving the kids home with a babysitter\, drop them off for a fun-filled evening with us and enjoy a few grown-up hours out on the town! Kids get to make their own dinner. After eating and a little clean up\, we'll do a post-meal activity\, like a food-themed craft\, games\, yoga or a movie. Parents/caregivers are welcome to drop-off or stay and watch. THANKSGIVING CELEBRATION Friday\, November 20\, 6:00-9:00pm MENU: Corn Potato Chowder\, Grilled Cheese with Cranberry Compote & Sweet Potato Pie Cookies ACTIVITY: Watching A Charlie Brown Thanksgiving
X-ALT-DESC;FMTTYPE=text/html:Everyone deserves a night out once in a while. Instead of leaving the kids home with a babysitter\, drop them off for a fun-filled evening with us and enjoy a few grown-up hours out on the town! Kids get to make their own dinner. After eating and a little clean up\, we&#39\;ll do a post-meal activity\, like a food-themed craft\, games\, yoga or a movie. Parents/caregivers are welcome to drop-off or stay and watch. THANKSGIVING CELEBRATION Friday\, November 20\, 6:00-9:00pm MENU: Corn Potato Chowder\, Grilled Cheese with Cranberry Compote &amp\; Sweet Potato Pie Cookies ACTIVITY: Watching A Charlie Brown Thanksgiving
LOCATION:The Kids' Table 2864 N Lincoln Ave
UID:e.1819.2250
SEQUENCE:3
DTSTAMP:20260422T223234Z
URL:https://members.lakeviewroscoevillage.org/events/details/kid-s-nite-out-11-20-2015-2250
END:VEVENT

END:VCALENDAR
