BEGIN:VCALENDAR
VERSION:2.0
PRODID:-//ChamberMaster//Event Calendar 2.0//EN
METHOD:PUBLISH
X-PUBLISHED-TTL:P3D
REFRESH-INTERVAL:P3D
CALSCALE:GREGORIAN
BEGIN:VEVENT
DTSTART:20160422T050000Z
DTEND:20160422T050000Z
X-MICROSOFT-CDO-ALLDAYEVENT:FALSE
SUMMARY:Kids' Nite Out
DESCRIPTION:Everyone deserves a night out once in a while. Instead of leaving the kids home with a babysitter\, drop them off for a fun-filled evening with us and enjoy a few grown-up hours out on the town! Kids get to make their own dinner. After eating and a little clean up\, we'll do a post-meal activity\, like a food-themed craft\, games\, yoga or a movie.\n\nParents/caregivers are welcome to drop-off or stay and watch.
X-ALT-DESC;FMTTYPE=text/html:<div>\n<div>\n<div>\n<p>Everyone deserves a night out once in a while. Instead of leaving the kids home with a babysitter\, drop them off for a fun-filled evening with us and enjoy a few grown-up hours out on the town! Kids get to make their own dinner. After eating and a little clean up\, we&#39\;ll do a post-meal activity\, like a food-themed craft\, games\, yoga or a movie.</p>\n\n<p>Parents/caregivers are welcome to drop-off or stay and watch.</p>\n</div>\n</div>\n</div>\n\n<div>\n<div>&nbsp\;</div>\n</div>\n
LOCATION:The Kids' Table\, 2864 N. Lincoln Ave.\, Chicago
UID:e.1819.2869
SEQUENCE:3
DTSTAMP:20260422T132349Z
URL:https://members.lakeviewroscoevillage.org/events/details/kids-nite-out-04-22-2016-2869
END:VEVENT

END:VCALENDAR
