BEGIN:VCALENDAR
VERSION:2.0
PRODID:-//ChamberMaster//Event Calendar 2.0//EN
METHOD:PUBLISH
X-PUBLISHED-TTL:P3D
REFRESH-INTERVAL:P3D
CALSCALE:GREGORIAN
BEGIN:VEVENT
DTSTART:20160122T170000Z
DTEND:20160122T180000Z
X-MICROSOFT-CDO-ALLDAYEVENT:FALSE
SUMMARY:Kids' Story Time at The Spanish Square
DESCRIPTION:The kids will love hearing their favorite Eric Carle book "The Very Hungry Caterpillar" read to them in Spanish! We'll finish with a fun activity related to the book!
X-ALT-DESC;FMTTYPE=text/html:The kids will love hearing their favorite Eric Carle book &ldquo\;The Very Hungry Caterpillar&rdquo\; read to them in Spanish! We&rsquo\;ll finish with a fun activity related to the book!
LOCATION:The Spanish Square\, 1358 W. Belmont Ave.
UID:e.1819.2688
SEQUENCE:3
DTSTAMP:20260422T190737Z
URL:https://members.lakeviewroscoevillage.org/events/details/kids-story-time-at-the-spanish-square-01-22-2016-2688
END:VEVENT

END:VCALENDAR
