BEGIN:VCALENDAR
VERSION:2.0
PRODID:-//ChamberMaster//Event Calendar 2.0//EN
METHOD:PUBLISH
X-PUBLISHED-TTL:P3D
REFRESH-INTERVAL:P3D
CALSCALE:GREGORIAN
BEGIN:VEVENT
DTSTART;VALUE=DATE:20140505
DTEND;VALUE=DATE:20140516
TRANSP:TRANSPARENT
X-MICROSOFT-CDO-ALLDAYEVENT:TRUE
SUMMARY:Kindergarten Registration at Burley Elementary
DESCRIPTION:Kindergarten Registration Dates\n\n			 \n			\n		\n	\n\n \n\n\n	\n		\n			\n			Make a registration appointment today!\n\n			Do you live within the Burley neighborhood boundaries? Will your child be 5 years old by September 2\, 2014? \n\n			 \n\n			Burley's kindergarten registration period will take place from May 5-15\, 2014 by appointment only. Children may be registered for the 2014-2015 school year if they will be 5 years old before Sep. 2\, 2014. Please bring all necessary registration documents to your appointment\, including: \n\n			   your driver's license or photo ID with Burley address\n\n			   two proofs of Burley address (current utility bills\, no leases accepted) \n\n			   child's birth certificate\n\n			   updated medical forms reflecting updated vaccinations & physical/vision/dental exams current within one year of Sep. 2\, 2014\n\n			\n\n			Please call Blanca at (773) 534-5475 to schedule an appointment between the hours of 8:15 AM to 3:15 PM from May 5-15\, 2014. Spread the word to families you know!\n\n			 \n			Questions?\n\n			Please contact Katherine Chuu at kchuu@cps.edu\n\n			\n\n			Burley School \n\n			1630 W. Barry Ave\n\n			Chicago\, IL 60657
X-ALT-DESC;FMTTYPE=text/html:<table border="0" cellpadding="0" cellspacing="0" style="font-family:Times New Roman\;width:853px\;" width="100%">\n	<tbody>\n		<tr>\n			<td style="padding:3.75pt\;">\n			<div><strong><span style="color:#222222\;"><span style="font-family:arial\,sans-serif\;"><span style="font-size:18pt\;">Kindergarten Registration Dates</span></span></span></strong></div>\n\n			<div>&nbsp\;</div>\n			</td>\n		</tr>\n	</tbody>\n</table>\n&nbsp\;\n\n<table border="0" cellpadding="0" cellspacing="0" style="font-family:Times New Roman\;width:853px\;" width="100%">\n	<tbody>\n		<tr>\n			<td style="padding:3.75pt\;">\n			<div><strong><span style="color:#222222\;"><span style="font-family:arial\,sans-serif\;"><span style="font-size:14pt\;">Make a registration appointment today!</span></span></span></strong></div>\n\n			<div><em><span style="color:#222222\;"><span style="font-family:arial\,sans-serif\;">Do you live within the Burley neighborhood boundaries? Will your child be 5 years old by&nbsp\;September 2\, 2014?&nbsp\;</span></span></em></div>\n\n			<div>&nbsp\;</div>\n\n			<div><span style="color:#222222\;"><span style="font-family:arial\,sans-serif\;"><span style="font-size:11pt\;">Burley&#39\;s kindergarten registration period will take place from&nbsp\;<strong>May 5-15\, 2014</strong>&nbsp\;by appointment only. Children may be registered for the 2014-2015 school year if they will be 5 years old before&nbsp\;Sep. 2\, 2014. Please bring all necessary registration documents to your appointment\, including:&nbsp\;</span></span></span><br />\n			<span style="color:#222222\;"><span style="font-family:symbol\;"><span style="font-size:10pt\;">&middot\;&nbsp\;&nbsp\;</span></span></span><span style="color:#222222\;"><span style="font-family:arial\,sans-serif\;"><span style="font-size:11pt\;">your driver&#39\;s license or photo ID with Burley address</span></span></span><br />\n			<span style="color:#222222\;"><span style="font-family:symbol\;"><span style="font-size:10pt\;">&middot\;&nbsp\;&nbsp\;</span></span></span><span style="color:#222222\;"><span style="font-family:arial\,sans-serif\;"><span style="font-size:11pt\;">two proofs of Burley address (current utility bills\, no leases accepted)&nbsp\;</span></span></span><br />\n			<span style="color:#222222\;"><span style="font-family:symbol\;"><span style="font-size:10pt\;">&middot\;&nbsp\;&nbsp\;</span></span></span><span style="color:#222222\;"><span style="font-family:arial\,sans-serif\;"><span style="font-size:11pt\;">child&#39\;s birth certificate</span></span></span><br />\n			<span style="color:#222222\;"><span style="font-family:symbol\;"><span style="font-size:10pt\;">&middot\;&nbsp\;&nbsp\;</span></span></span><span style="color:#222222\;"><span style="font-family:arial\,sans-serif\;"><span style="font-size:11pt\;">updated medical forms reflecting updated vaccinations &amp\; physical/vision/dental exams current within one year of&nbsp\;Sep. 2\, 2014</span></span></span><br />\n			<br />\n			<span style="color:blue\;"><span style="font-family:arial\,sans-serif\;"><span style="font-size:11pt\;">Please call Blanca at&nbsp\;<a href="tel:%28773%29%20534-5475" style="color:purple\;" target="_blank"><span phonenumber="(773) 534-5475" style="border-bottom-width:1px\;border-bottom-style:dotted\;">(773) 534-5475</span></a>&nbsp\;to schedule an appointment between the hours of 8:15 AM to 3:15 PM&nbsp\;from&nbsp\;May 5-15\, 2014. Spread the word to families you know!</span></span></span><br />\n			&nbsp\;</div>\n			<strong><span style="color:#222222\;"><span style="font-family:arial\,sans-serif\;"><span style="font-size:11pt\;">Questions?</span></span></span></strong><br />\n			<span style="color:#222222\;"><span style="font-family:arial\,sans-serif\;"><span style="font-size:11pt\;">Please contact Katherine Chuu at&nbsp\;<a href="mailto:kchuu@cps.edu" style="color:purple\;" target="_blank"><strong><span email="kchuu@cps.edu" id="chat_icon" style="border-bottom-width:1px\;border-bottom-style:dotted\;">kchuu@cps.edu</span></strong></a></span></span></span><br />\n			<br />\n			<span style="font-size:12px\;"><span style="font-family:arial\;"><span style="color: rgb(0\, 0\, 153)\; line-height: normal\;">Burley School&nbsp\;</span><br style="color: rgb(0\, 0\, 153)\; font-family: Tahoma\, sans-serif\; font-size: 10px\; line-height: normal\;" />\n			<span style="color: rgb(0\, 0\, 153)\; line-height: normal\;">1630 W. Barry Ave</span><br style="color: rgb(0\, 0\, 153)\; font-family: Tahoma\, sans-serif\; font-size: 10px\; line-height: normal\;" />\n			<span style="color: rgb(0\, 0\, 153)\; line-height: normal\;">Chicago\, IL 60657</span></span></span></td>\n		</tr>\n	</tbody>\n</table>\n
LOCATION:Burley School 1630 W. Barry Ave Chicago\, IL 60657
UID:e.1819.275
SEQUENCE:3
DTSTAMP:20260424T095057Z
URL:https://members.lakeviewroscoevillage.org/events/details/kindergarten-registration-at-burley-elementary-05-05-2014-275
END:VEVENT

END:VCALENDAR
