BEGIN:VCALENDAR
VERSION:2.0
PRODID:-//ChamberMaster//Event Calendar 2.0//EN
METHOD:PUBLISH
X-PUBLISHED-TTL:P3D
REFRESH-INTERVAL:P3D
CALSCALE:GREGORIAN
BEGIN:VEVENT
DTSTART:20151220T220000Z
DTEND:20151221T010000Z
X-MICROSOFT-CDO-ALLDAYEVENT:FALSE
SUMMARY:Kleine Deutschschule - Grand Opening Day
DESCRIPTION:Kleine Deutschschule - German Language Center is opening its doors and we would like to invite you to join us for a fun afternoon and learn about our programs\, meet the teachers.This is a family friendly event with games\, crafts and entertainment for everyone from age 1 to 100.
X-ALT-DESC;FMTTYPE=text/html:Kleine Deutschschule - German Language Center is opening its doors and we would like to invite you to join us for a fun afternoon and learn about our programs\, meet the teachers.This is a family friendly event with games\, crafts and entertainment for everyone from age 1 to 100.
LOCATION:Kleine Deutschschule - German Language Center 1449 W Irving Park Rd Chicago IL 60613
UID:e.1819.2282
SEQUENCE:3
DTSTAMP:20260422T223701Z
URL:https://members.lakeviewroscoevillage.org/events/details/kleine-deutschschule-grand-opening-day-12-20-2015-2282
END:VEVENT

END:VCALENDAR
