BEGIN:VCALENDAR
VERSION:2.0
PRODID:-//ChamberMaster//Event Calendar 2.0//EN
METHOD:PUBLISH
X-PUBLISHED-TTL:P3D
REFRESH-INTERVAL:P3D
CALSCALE:GREGORIAN
BEGIN:VEVENT
DTSTART;VALUE=DATE:20140321
DTEND;VALUE=DATE:20140416
TRANSP:TRANSPARENT
X-MICROSOFT-CDO-ALLDAYEVENT:TRUE
SUMMARY:Krista K Spring Wardrobe Event
DESCRIPTION:Shop New Arrivals!\n\nGet $50 off $250\n\n$100 off $500\n\n$150 off $750\n\n$200 off $1000
X-ALT-DESC;FMTTYPE=text/html:Shop New Arrivals!<br />\nGet $50 off $250<br />\n$100 off $500<br />\n$150 off $750<br />\n$200 off $1000
LOCATION:3458 N Southport Ave Chicago IL 60657
UID:e.1819.243
SEQUENCE:3
DTSTAMP:20260424T120733Z
URL:https://members.lakeviewroscoevillage.org/events/details/krista-k-spring-wardrobe-event-03-21-2014-243
END:VEVENT

END:VCALENDAR
