BEGIN:VCALENDAR
VERSION:2.0
PRODID:-//ChamberMaster//Event Calendar 2.0//EN
METHOD:PUBLISH
X-PUBLISHED-TTL:P3D
REFRESH-INTERVAL:P3D
CALSCALE:GREGORIAN
BEGIN:VEVENT
DTSTART:20150128T120000Z
DTEND:20150201T040000Z
X-MICROSOFT-CDO-ALLDAYEVENT:FALSE
SUMMARY:Lake View YMCA Winter Champaign
DESCRIPTION:Stop by before February 1st to get in on an incredible offer and save up to $90 on a YMCA membership.You don't want to miss out on this great opportunity to help you accomplish your fitness goals. Visit lakeviewymca.org or call 773-248-3333 for details!
X-ALT-DESC;FMTTYPE=text/html:Stop by before February 1st to get in on an incredible offer and save up to $90 on a YMCA membership.You don&#39\;t want to miss out on this great opportunity to help you accomplish your fitness goals. Visit lakeviewymca.org or call 773-248-3333 for details!
LOCATION:3333 N Marshfield Ave Chicago IL 60657
UID:e.1819.1496
SEQUENCE:3
DTSTAMP:20260423T171848Z
URL:https://members.lakeviewroscoevillage.org/events/details/lake-view-ymca-winter-champaign-01-28-2015-1496
END:VEVENT

END:VCALENDAR
