BEGIN:VCALENDAR
VERSION:2.0
PRODID:-//ChamberMaster//Event Calendar 2.0//EN
METHOD:PUBLISH
X-PUBLISHED-TTL:P3D
REFRESH-INTERVAL:P3D
CALSCALE:GREGORIAN
BEGIN:VEVENT
DTSTART:20160625T170000Z
DTEND:20160625T200000Z
X-MICROSOFT-CDO-ALLDAYEVENT:FALSE
SUMMARY:Lakeivew Pantry Community Open House
DESCRIPTION:Digital Invite
X-ALT-DESC;FMTTYPE=text/html:<a href="http://www.lakeviewpantry.org/wp-content/uploads/2016/06/LakeviewPantry_INVITE-DIGITAL-1.pdf">Digital Invite</a>
LOCATION:
UID:e.1819.2961
SEQUENCE:3
DTSTAMP:20260422T100320Z
URL:https://members.lakeviewroscoevillage.org/events/details/lakeivew-pantry-community-open-house-06-25-2016-2961
END:VEVENT

END:VCALENDAR
