BEGIN:VCALENDAR
VERSION:2.0
PRODID:-//ChamberMaster//Event Calendar 2.0//EN
METHOD:PUBLISH
X-PUBLISHED-TTL:P3D
REFRESH-INTERVAL:P3D
CALSCALE:GREGORIAN
BEGIN:VEVENT
DTSTART:20170412T223000Z
DTEND:20170413T003000Z
X-MICROSOFT-CDO-ALLDAYEVENT:FALSE
SUMMARY:Lakeview Business Social
DESCRIPTION:April's Lakeview Business Social is Going to the Dogs!\n\n \n\nJoin us for "PetWorking": Where business professionals and their pets collide. Get to know other business owners in Lakeview with their furry friends in tow at SIT Social: A Dog Lounge. Enjoy sipping on various beers such as the "Nilla Nuzzle Porter" from WolfDen Brewing Company. Feast on some small bites for the humans\, as well as pupcakes provided by SIT Social while you mix and mingle with fellow pet lovers and pet owners. PetWorking is a great way to get know others in our community in a unique and fun way. Our evening includes a social scavenger hunt to get the conversation flowing and win prizes. Friendly\, vaccinated\, well behaved\, and leashed dogs are welcome to attend the event. No Retractable leashes allowed.
X-ALT-DESC;FMTTYPE=text/html:<strong style="color: rgb(32\, 32\, 32)\; font-family: Helvetica\; font-size: 16px\; background-color: rgb(255\, 255\, 255)\;"><span style="font-size: 24px\;">April&#39\;s Lakeview&nbsp\;<span class="il">Business</span>&nbsp\;Social is Going to the Dogs!</span></strong><br style="color: rgb(32\, 32\, 32)\; font-family: Helvetica\; font-size: 16px\; background-color: rgb(255\, 255\, 255)\;" />\n<span style="color: rgb(32\, 32\, 32)\; font-family: Helvetica\; font-size: 16px\; background-color: rgb(255\, 255\, 255)\;">&nbsp\;</span><br style="color: rgb(32\, 32\, 32)\; font-family: Helvetica\; font-size: 16px\; background-color: rgb(255\, 255\, 255)\;" />\n<span style="color: rgb(32\, 32\, 32)\; font-family: Helvetica\; font-size: 16px\; background-color: rgb(255\, 255\, 255)\;">Join us for &quot\;PetWorking&quot\;: Where&nbsp\;</span><span class="il" style="color: rgb(32\, 32\, 32)\; font-family: Helvetica\; font-size: 16px\; background-color: rgb(255\, 255\, 255)\;">business</span><span style="color: rgb(32\, 32\, 32)\; font-family: Helvetica\; font-size: 16px\; background-color: rgb(255\, 255\, 255)\;">&nbsp\;professionals and their pets collide. Get to know other&nbsp\;</span><span class="il" style="color: rgb(32\, 32\, 32)\; font-family: Helvetica\; font-size: 16px\; background-color: rgb(255\, 255\, 255)\;">business</span><span style="color: rgb(32\, 32\, 32)\; font-family: Helvetica\; font-size: 16px\; background-color: rgb(255\, 255\, 255)\;">&nbsp\;owners in Lakeview with their furry friends in tow at&nbsp\;</span><a data-saferedirecturl="https://www.google.com/url?hl=en&amp\;q=http://www.sitinchicago.com/&amp\;source=gmail&amp\;ust=1490389753580000&amp\;usg=AFQjCNFqFBr0jM0w0rO_cevAo87QnW587g" href="http://www.sitinchicago.com/" style="color: rgb(0\, 0\, 0)\; font-family: Helvetica\; font-size: 16px\; background-color: rgb(255\, 255\, 255)\;" target="_blank">SIT Social: A Dog Lounge</a><span style="color: rgb(32\, 32\, 32)\; font-family: Helvetica\; font-size: 16px\; background-color: rgb(255\, 255\, 255)\;">. Enjoy sipping on various beers such as the &quot\;Nilla Nuzzle Porter&quot\; from&nbsp\;</span><a style="text-decoration: underline\; font-family: Helvetica\; font-size: 16px\; background-color: rgb(255\, 255\, 255)\;">WolfDen Brewing Company</a><span style="color: rgb(32\, 32\, 32)\; font-family: Helvetica\; font-size: 16px\; background-color: rgb(255\, 255\, 255)\;">. Feast on some small bites for the humans\, as well as pupcakes provided by SIT Social while you mix and mingle with fellow pet lovers and pet owners. PetWorking is a great way to get know others in our community in a unique and fun way. Our evening includes a social scavenger hunt to get the conversation flowing and win prizes. Friendly\, vaccinated\, well behaved\, and leashed dogs are welcome to attend the event. No Retractable leashes allowed.&nbsp\;</span>
LOCATION:SIT Social: A Dog Lounge\, 3920 N Ashland Ave
UID:e.1819.4891
SEQUENCE:3
DTSTAMP:20260419T235824Z
URL:https://members.lakeviewroscoevillage.org/events/details/lakeview-business-social-04-12-2017-4891
END:VEVENT

END:VCALENDAR
