BEGIN:VCALENDAR
VERSION:2.0
PRODID:-//ChamberMaster//Event Calendar 2.0//EN
METHOD:PUBLISH
X-PUBLISHED-TTL:P3D
REFRESH-INTERVAL:P3D
CALSCALE:GREGORIAN
BEGIN:VEVENT
DTSTART:20170510T223000Z
DTEND:20170511T003000Z
X-MICROSOFT-CDO-ALLDAYEVENT:FALSE
SUMMARY:Lakeview Business Social
DESCRIPTION:Get to know other local businesses in the neighborhood! Join us on the second Wednesday of every month from 5:30-7:30PM at a member business for a casual evening of networking and conversation. Whether you're looking for new business connections or just want to exchange ideas with other people running businesses in Lakeview\, Lakeview Business Socials provide monthly opportunities to engage with our community. Complimentary for members\, $10 for non-members.
X-ALT-DESC;FMTTYPE=text/html:Get to know other local businesses in the neighborhood! Join us on the second&nbsp\;Wednesday&nbsp\;of every month from&nbsp\;5:30-7:30PM&nbsp\;at a member business for a casual evening of networking and conversation. Whether you&#39\;re looking for new business connections or just want to exchange ideas with other people running businesses in Lakeview\, Lakeview Business Socials provide monthly opportunities to engage with our community. Complimentary for members\, $10 for non-members.<br />\n<br />\n<br />\n<br />\n&nbsp\;
LOCATION:Eye Spy Optical 3350 N Lincoln Ave
UID:e.1819.4892
SEQUENCE:3
DTSTAMP:20260419T220603Z
URL:https://members.lakeviewroscoevillage.org/events/details/lakeview-business-social-05-10-2017-4892
END:VEVENT

END:VCALENDAR
