BEGIN:VCALENDAR
VERSION:2.0
PRODID:-//ChamberMaster//Event Calendar 2.0//EN
METHOD:PUBLISH
X-PUBLISHED-TTL:P3D
REFRESH-INTERVAL:P3D
CALSCALE:GREGORIAN
BEGIN:VEVENT
DTSTART:20170913T223000Z
DTEND:20170914T003000Z
X-MICROSOFT-CDO-ALLDAYEVENT:FALSE
SUMMARY:Lakeview Business Social
DESCRIPTION:Get to know other local businesses in the neighborhood! Join us on the second Wednesday of every month from 5:30-7:30PM at a member business for a casual evening of networking and conversation. Whether you're looking for new business connections or just want to exchange ideas with other people running businesses in Lakeview\, Lakeview Business Socials provide monthly opportunities to engage with our community. Complimentary for members\, $10 for non-members.
X-ALT-DESC;FMTTYPE=text/html:Get to know other local businesses in the neighborhood! Join us on the second&nbsp\;Wednesday&nbsp\;of every month from&nbsp\;5:30-7:30PM&nbsp\;at a member business for a casual evening of networking and conversation. Whether you&#39\;re looking for new business connections or just want to exchange ideas with other people running businesses in Lakeview\, Lakeview Business Socials provide monthly opportunities to engage with our community. Complimentary for members\, $10 for non-members.&nbsp\;
LOCATION:Wildwood Photography 3726 N Southport Ave
UID:e.1819.4896
SEQUENCE:3
DTSTAMP:20260419T181647Z
URL:https://members.lakeviewroscoevillage.org/events/details/lakeview-business-social-09-13-2017-4896
END:VEVENT

END:VCALENDAR
