BEGIN:VCALENDAR
VERSION:2.0
PRODID:-//ChamberMaster//Event Calendar 2.0//EN
METHOD:PUBLISH
X-PUBLISHED-TTL:P3D
REFRESH-INTERVAL:P3D
CALSCALE:GREGORIAN
BEGIN:VEVENT
DTSTART:20171011T223000Z
DTEND:20171012T003000Z
X-MICROSOFT-CDO-ALLDAYEVENT:FALSE
SUMMARY:Lakeview Business Social
DESCRIPTION:Get to know other local businesses in the neighborhood! Join us on October 11th from 5:30-7:30PM at Renaissance Saint Luke for a casual evening of networking and conversation. Whether you're looking for new business connections or just want to exchange ideas with other people running businesses in Lakeview\, Lakeview Business Socials provide monthly opportunities to engage with our community. Complimentary for members\, $10 for non-members.
X-ALT-DESC;FMTTYPE=text/html:Get to know other local businesses in the neighborhood! Join us on October 11th from&nbsp\;5:30-7:30PM&nbsp\;at Renaissance Saint Luke for a casual evening of networking and conversation. Whether you&#39\;re looking for new business connections or just want to exchange ideas with other people running businesses in Lakeview\, Lakeview Business Socials provide monthly opportunities to engage with our community. Complimentary for members\, $10 for non-members.&nbsp\;
LOCATION:Renaissance Saint Luke (55+) 1501 W. Belmont Ave.
UID:e.1819.4897
SEQUENCE:3
DTSTAMP:20260419T162440Z
URL:https://members.lakeviewroscoevillage.org/events/details/lakeview-business-social-10-11-2017-4897
END:VEVENT

END:VCALENDAR
